BEGIN:VCALENDAR
VERSION:2.0
PRODID:-//ChamberMaster//Event Calendar 2.0//EN
METHOD:PUBLISH
X-PUBLISHED-TTL:P3D
REFRESH-INTERVAL:P3D
CALSCALE:GREGORIAN
BEGIN:VEVENT
DTSTART:20260307T023000Z
DTEND:20260307T050000Z
X-MICROSOFT-CDO-ALLDAYEVENT:FALSE
SUMMARY:Trisha Yearwood: The Mirror Tour
DESCRIPTION:Three-time GRAMMY  winner Trisha Yearwood returns to the stage to celebrate the release of her acclaimed new album\, The Mirror. She's joined by friends and fellow songwriters Leslie Satcher and Bridgette Tatum for an intimate acoustic evening of stories and songs. With her powerful voice and heartfelt storytelling\, Trisha brings The Mirror to life alongside the timeless hits that have defined her career.
X-ALT-DESC;FMTTYPE=text/html:Three-time GRAMMY&reg\; winner Trisha Yearwood returns to the stage to celebrate the release of her acclaimed new album\, The Mirror. She&rsquo\;s joined by friends and fellow songwriters Leslie Satcher and Bridgette Tatum for an intimate acoustic evening of stories and songs. With her powerful voice and heartfelt storytelling\, Trisha brings The Mirror to life alongside the timeless hits that have defined her career.
LOCATION:250 N Arizona Ave Chandler Center for the Arts
UID:e.1561.51999
SEQUENCE:3
DTSTAMP:20260424T022548Z
URL:https://business.chandlerchamber.com/events/details/trisha-yearwood-the-mirror-tour-51999
END:VEVENT

END:VCALENDAR
