BEGIN:VCALENDAR
VERSION:2.0
PRODID:-//ChamberMaster//Event Calendar 2.0//EN
METHOD:PUBLISH
X-PUBLISHED-TTL:P3D
REFRESH-INTERVAL:P3D
CALSCALE:GREGORIAN
BEGIN:VEVENT
DTSTART:20170816T020000Z
DTEND:20170816T040000Z
X-MICROSOFT-CDO-ALLDAYEVENT:FALSE
SUMMARY:Trivia Night @ The Ostrich
DESCRIPTION:Trivia Night @ The Ostrich August 15\, 2017   Hot\, Hot Hot: Top Chandler Headlines Chandler Museum and The Ostrich present Trivia Night with Hip Historian Marshall Shore It's hot outside\, but it's cool at The Ostrich. Go head-to-head with other trivia teams as you test your knowledge of the hot headlines in Chandler's history. Cocktail in one hand and a pencil in the other\, we will help you forget it's sweltering outside with plenty of fun. Did we mention there are prizes? And\, a raffle? Compete with a trivia team of four to six. Reserve your spot today on eventbrite. Tuesday\, August 15\, 2017\, 7   9 p.m.\, The Ostrich (basement of Crust)\, 10 N. San Marcos Place\, Chandler. More information at chandlermuseum.org.
X-ALT-DESC;FMTTYPE=text/html:Trivia Night @ The Ostrich August 15\, 2017 &ndash\; Hot\, Hot Hot: Top Chandler Headlines Chandler Museum and The Ostrich present Trivia Night with Hip Historian Marshall Shore It&rsquo\;s hot outside\, but it&rsquo\;s cool at The Ostrich. Go head-to-head with other trivia teams as you test your knowledge of the hot headlines in Chandler&rsquo\;s history. Cocktail in one hand and a pencil in the other\, we will help you forget it&rsquo\;s sweltering outside with plenty of fun. Did we mention there are prizes? And\, a raffle? Compete with a trivia team of four to six. Reserve your spot today on eventbrite. Tuesday\, August 15\, 2017\, 7 &ndash\; 9 p.m.\, The Ostrich (basement of Crust)\, 10 N. San Marcos Place\, Chandler. More information at chandlermuseum.org.
LOCATION:The Ostrich (basement of Crust) 10 N. San Marcos Place\, Chandler AZ
UID:e.1561.19092
SEQUENCE:3
DTSTAMP:20260424T063700Z
URL:https://business.chandlerchamber.com/events/details/trivia-night-the-ostrich-19092
END:VEVENT

END:VCALENDAR
