BEGIN:VCALENDAR
VERSION:2.0
PRODID:-//ChamberMaster//Event Calendar 2.0//EN
METHOD:PUBLISH
X-PUBLISHED-TTL:P3D
REFRESH-INTERVAL:P3D
CALSCALE:GREGORIAN
BEGIN:VEVENT
DTSTART:20190730T233000Z
DTEND:20190731T013000Z
X-MICROSOFT-CDO-ALLDAYEVENT:FALSE
SUMMARY:Tueday Leads Happy Hour
DESCRIPTION:The Chandler Chamber Tuesday leads group will be hosting a Happy Hour at the Serrano's banquet room\, located in the back of the downtown Chandler restaurant starting at 4:30pm. Happy Hour Prices on food and drinks\, bring business cards to win giveaways and support some local business that will be participating. Come join the fun and hang our with the Wicked Awesome Tuesday crew!!!
X-ALT-DESC;FMTTYPE=text/html:The Chandler Chamber Tuesday leads group will be hosting a Happy Hour at the Serrano&#39\;s banquet room\, located in the back of the downtown Chandler restaurant starting at 4:30pm. Happy Hour Prices on food and drinks\, bring business cards to win giveaways and support some local business that will be participating. Come join the fun and hang our with the Wicked Awesome Tuesday crew!!!
LOCATION:
UID:e.1561.36774
SEQUENCE:3
DTSTAMP:20260422T230635Z
URL:https://business.chandlerchamber.com/events/details/tueday-leads-happy-hour-36774
END:VEVENT

END:VCALENDAR
