BEGIN:VCALENDAR
VERSION:2.0
PRODID:-//ChamberMaster//Event Calendar 2.0//EN
METHOD:PUBLISH
X-PUBLISHED-TTL:P3D
REFRESH-INTERVAL:P3D
CALSCALE:GREGORIAN
BEGIN:VEVENT
DTSTART:20200818T143000Z
DTEND:20200818T153000Z
X-MICROSOFT-CDO-ALLDAYEVENT:FALSE
SUMMARY:Tuesday Morning Leads Group Chandler Chamber
DESCRIPTION:Chandler Business Connection Leads Group\n\nConnecting Business one Meeting at a time
X-ALT-DESC;FMTTYPE=text/html:<div style="color: rgb(68\, 68\, 68)\; line-height: 18px\; font-family: &quot\;Helvetica Neue&quot\;\, Arial\, sans-serif\; font-size: 13px\; background-color: rgb(250\, 250\, 250)\;"><span style="color:#000000\;"><strong><em><span style="font-size: small\;">Chandler Business Connection Leads Group</span></em></strong></span></div>\n\n<div style="color: rgb(68\, 68\, 68)\; line-height: 18px\; font-family: &quot\;Helvetica Neue&quot\;\, Arial\, sans-serif\; font-size: 13px\; background-color: rgb(250\, 250\, 250)\;"><span style="color:#000000\;"><strong><em><span style="font-size: small\;"><span style="font-family: arial\;">Connecting Business one Meeting at a time</span></span></em></strong></span></div>\n\n<div style="color: rgb(68\, 68\, 68)\; line-height: 18px\; font-family: &quot\;Helvetica Neue&quot\;\, Arial\, sans-serif\; font-size: 13px\; background-color: rgb(250\, 250\, 250)\;">&nbsp\;</div>\n\n<div style="color: rgb(68\, 68\, 68)\; line-height: 18px\; font-family: &quot\;Helvetica Neue&quot\;\, Arial\, sans-serif\; font-size: 13px\; background-color: rgb(250\, 250\, 250)\;">&nbsp\;</div>\n\n<div style="color: rgb(68\, 68\, 68)\; line-height: 18px\; font-family: &quot\;Helvetica Neue&quot\;\, Arial\, sans-serif\; font-size: 13px\; background-color: rgb(250\, 250\, 250)\;">&nbsp\;</div>\n
LOCATION:Virtual Meeting Contact the Chamber for more information
UID:e.1561.19561
SEQUENCE:3
DTSTAMP:20260424T213139Z
URL:https://business.chandlerchamber.com/events/details/tuesday-morning-leads-group-chandler-chamber-08-18-2020-19561
END:VEVENT

END:VCALENDAR
