BEGIN:VCALENDAR
VERSION:2.0
PRODID:-//ChamberMaster//Event Calendar 2.0//EN
METHOD:PUBLISH
X-PUBLISHED-TTL:P3D
REFRESH-INTERVAL:P3D
CALSCALE:GREGORIAN
BEGIN:VEVENT
DTSTART:20200818T180000Z
DTEND:20200818T190000Z
X-MICROSOFT-CDO-ALLDAYEVENT:FALSE
SUMMARY:UCP Strong\, Champions Virtual Event
DESCRIPTION:Since 1952\, UCP of Central Arizona has been providing courage and strength to the disability community. We hope you will join us for a special hour program to learn more about the incredible research\, inspiring stories and community support that is necessary to keep providing strength and hope to our families and individuals. We look forward to you joining us! As an alternative to our traditional in-person gala\, UCP is excited to present a Champions Virtual Event. Free Registration NOW OPEN.
X-ALT-DESC;FMTTYPE=text/html:Since 1952\, UCP of Central Arizona has been providing courage and strength to the disability community. We hope you will join us for a special hour program to learn more about the incredible research\, inspiring stories and community support that is necessary to keep providing strength and hope to our families and individuals. We look forward to you joining us! As an alternative to our traditional in-person gala\, UCP is excited to present a Champions Virtual Event. Free Registration NOW OPEN.
LOCATION:Virutal Event: https://aesaz.co/ELP/UCP2020/
UID:e.1561.39216
SEQUENCE:3
DTSTAMP:20260424T211459Z
URL:https://business.chandlerchamber.com/events/details/ucp-strong-champions-virtual-event-39216
END:VEVENT

END:VCALENDAR
