BEGIN:VCALENDAR
VERSION:2.0
PRODID:-//ChamberMaster//Event Calendar 2.0//EN
METHOD:PUBLISH
X-PUBLISHED-TTL:P3D
REFRESH-INTERVAL:P3D
CALSCALE:GREGORIAN
BEGIN:VEVENT
DTSTART:20190512T170000Z
DTEND:20190512T210000Z
X-MICROSOFT-CDO-ALLDAYEVENT:FALSE
SUMMARY:UltraStar's May Events
DESCRIPTION:Mother's Day Brunch at UltraStar
X-ALT-DESC;FMTTYPE=text/html:Mother&#39\;s Day Brunch at UltraStar
LOCATION:347 Grill Restaurant
UID:e.1561.36698
SEQUENCE:3
DTSTAMP:20260423T033058Z
URL:https://business.chandlerchamber.com/events/details/ultrastar-s-may-events-36698
END:VEVENT

END:VCALENDAR
