BEGIN:VCALENDAR
VERSION:2.0
PRODID:-//ChamberMaster//Event Calendar 2.0//EN
METHOD:PUBLISH
X-PUBLISHED-TTL:P3D
REFRESH-INTERVAL:P3D
CALSCALE:GREGORIAN
BEGIN:VEVENT
DTSTART;VALUE=DATE:20150926
DTEND;VALUE=DATE:20150927
TRANSP:TRANSPARENT
X-MICROSOFT-CDO-ALLDAYEVENT:TRUE
SUMMARY:UMOM Walk for Homeless Families
DESCRIPTION:1K and 5K walk through the Phoenix Zoo to benefit UMOM New Day Centers in Phoenix.
X-ALT-DESC;FMTTYPE=text/html:1K and 5K walk through the Phoenix Zoo to benefit UMOM New Day Centers in Phoenix.
LOCATION:The Phoenix Zoo
UID:e.1561.13180
SEQUENCE:3
DTSTAMP:20260425T170346Z
URL:https://business.chandlerchamber.com/events/details/umom-walk-for-homeless-families-09-26-2015-13180
END:VEVENT

END:VCALENDAR
