BEGIN:VCALENDAR
VERSION:2.0
PRODID:-//ChamberMaster//Event Calendar 2.0//EN
METHOD:PUBLISH
X-PUBLISHED-TTL:P3D
REFRESH-INTERVAL:P3D
CALSCALE:GREGORIAN
BEGIN:VEVENT
DTSTART:20260314T150000Z
DTEND:20260314T190000Z
X-MICROSOFT-CDO-ALLDAYEVENT:FALSE
SUMMARY:United Food Bank: Food For All 5k
DESCRIPTION:Join Us for Our First Annual Food For All 5K! We are excited to host our first ever 5k event this spring! This community-powered fun-run/walk supports families\, children\, and seniors facing food insecurity in Arizona. Help us provide nutritious meals and be part of a meaningful opportunity to champion health and hope. **All ages and paces welcome\; this race is not timed.** Race will take place rain or shine!
X-ALT-DESC;FMTTYPE=text/html:Join Us for Our First Annual Food For All 5K! We are excited to host our first ever 5k event this spring! This community-powered fun-run/walk supports families\, children\, and seniors facing food insecurity in Arizona. Help us provide nutritious meals and be part of a meaningful opportunity to champion health and hope. **All ages and paces welcome\; this race is not timed.** Race will take place rain or shine!
LOCATION:Freestone District Park 1045 East Juniper Avenue\, Gilbert\, AZ 85234
UID:e.1561.52226
SEQUENCE:3
DTSTAMP:20260424T011756Z
URL:https://business.chandlerchamber.com/events/details/united-food-bank-food-for-all-5k-52226
END:VEVENT

END:VCALENDAR
