BEGIN:VCALENDAR
VERSION:2.0
PRODID:-//ChamberMaster//Event Calendar 2.0//EN
METHOD:PUBLISH
X-PUBLISHED-TTL:P3D
REFRESH-INTERVAL:P3D
CALSCALE:GREGORIAN
BEGIN:VEVENT
DTSTART:20191016T010000Z
DTEND:20191016T033000Z
X-MICROSOFT-CDO-ALLDAYEVENT:FALSE
SUMMARY:Vegetable Gardening through the Seasons
DESCRIPTION:Take advantage of this timely workshop to get your garden growing in our unique desert environment. You will discover the importance and details of soil preparation and how to overcome the challenges of our environment. You will learn proper planting seasons and strategies\, growing in raised beds\, and resources for seeds for a bountiful harvest.
X-ALT-DESC;FMTTYPE=text/html:Take advantage of this timely workshop to get your garden growing in our unique desert environment. You will discover the importance and details of soil preparation and how to overcome the challenges of our environment. You will learn proper planting seasons and strategies\, growing in raised beds\, and resources for seeds for a bountiful harvest.
LOCATION:ASU Chandler Innovation Center 249 E Chicago St. Chandler\, AZ 85225
UID:e.1561.36875
SEQUENCE:3
DTSTAMP:20260422T202238Z
URL:https://business.chandlerchamber.com/events/details/vegetable-gardening-through-the-seasons-36875
END:VEVENT

END:VCALENDAR
