BEGIN:VCALENDAR
VERSION:2.0
PRODID:-//ChamberMaster//Event Calendar 2.0//EN
METHOD:PUBLISH
X-PUBLISHED-TTL:P3D
REFRESH-INTERVAL:P3D
CALSCALE:GREGORIAN
BEGIN:VEVENT
DTSTART:20170921T200000Z
DTEND:20170921T210000Z
X-MICROSOFT-CDO-ALLDAYEVENT:FALSE
SUMMARY:Video Marketing Made Easy
DESCRIPTION:*All times are Eastern Daylight for these free Live Webinars\n\nREGISTER\n\nVideos are now a digital marketing must. Nearly 50% of consumers say they've made a purchase as a result of watching a video on social media\, and video will account for over 80% of internet traffic by 2020.  But the thought of making videos can be overwhelming. Rest assured that ANYONE can create them.  Expensive equipment and fancy studios are no longer a requirement.  \n\nIn this session\, Digital Marketing Expert Sherry Bonelli will discuss the importance of video marketing to your business. She will cover:\n\n\n \n\n	The types of videos you can create\n	How to create videos with your smartphone\n	The easy-to-use video platforms (like Belive.tv\, Facebook Live and YouTube Live) you can use to engage your future customers\n	Software tools that can make your video production easy\n	Affordable gadgets that allow you to record and create videos like a pro
X-ALT-DESC;FMTTYPE=text/html:<p><strong><span style="color:#FF0000\;">*All times are Eastern Daylight for these free Live Webinars</span></strong></p>\n\n<p><strong><span style="color:#FF0000\;"><a href="https://cc.readytalk.com/registration/#/?meeting=9ykpjidw3ism&amp\;campaign=4zyyxe5lxh0c">REGISTER</a></span></strong><br />\n<span style="box-sizing: border-box\; font-family: tahoma\, arial\, helvetica\, sans-serif\; font-size: small\;">Videos are now a digital marketing must. Nearly 50% of consumers say they&rsquo\;ve made a purchase as a result of watching a video on social media\, and video will account for over 80% of internet traffic by 2020.&nbsp\;&nbsp\;<span style="box-sizing: border-box\;">But the thought of making videos can be overwhelming. Rest assured that ANYONE can create them. &nbsp\;Expensive equipment and fancy studios are no longer a requirement. &nbsp\;</span></span><br style="box-sizing: border-box\;" />\n<span style="box-sizing: border-box\; font-family: tahoma\, arial\, helvetica\, sans-serif\; font-size: small\;"><span style="box-sizing: border-box\;">In this session\, Digital Marketing Expert Sherry Bonelli will discuss the importance of video marketing to your business. She will cover:</span></span></p>\n\n<div style="box-sizing: border-box\; color: rgb(102\, 102\, 102)\; font-family: &quot\;Open Sans&quot\;\, Arial\, Helvetica\, sans-serif\; font-size: 14px\;">\n<div style="box-sizing: border-box\;">&nbsp\;\n<ul style="box-sizing: border-box\; margin-top: 0px\; margin-bottom: 10px\;">\n	<li style="box-sizing: border-box\;"><span style="box-sizing: border-box\; font-family: tahoma\, arial\, helvetica\, sans-serif\; font-size: small\;">The types of videos you can create</span></li>\n	<li style="box-sizing: border-box\;"><span style="box-sizing: border-box\; font-family: tahoma\, arial\, helvetica\, sans-serif\; font-size: small\;">How to create videos with your smartphone</span></li>\n	<li style="box-sizing: border-box\;"><span style="box-sizing: border-box\; font-family: tahoma\, arial\, helvetica\, sans-serif\; font-size: small\;">The easy-to-use video platforms (like Belive.tv\, Facebook Live and YouTube Live) you can use to engage your future customers</span></li>\n	<li style="box-sizing: border-box\;"><span style="box-sizing: border-box\; font-family: tahoma\, arial\, helvetica\, sans-serif\; font-size: small\;">Software tools that can make your video production easy</span></li>\n	<li style="box-sizing: border-box\;"><span style="box-sizing: border-box\; font-family: tahoma\, arial\, helvetica\, sans-serif\; font-size: small\;">Affordable gadgets that allow you to record and create videos like a pro</span></li>\n</ul>\n</div>\n</div>\n<br />\n&nbsp\;
LOCATION:Free Webinar
UID:e.1561.19161
SEQUENCE:3
DTSTAMP:20260424T063715Z
URL:https://business.chandlerchamber.com/events/details/video-marketing-made-easy-19161
END:VEVENT

END:VCALENDAR
