BEGIN:VCALENDAR
VERSION:2.0
PRODID:-//ChamberMaster//Event Calendar 2.0//EN
METHOD:PUBLISH
X-PUBLISHED-TTL:P3D
REFRESH-INTERVAL:P3D
CALSCALE:GREGORIAN
BEGIN:VEVENT
DTSTART:20191029T173000Z
DTEND:20191029T190000Z
X-MICROSOFT-CDO-ALLDAYEVENT:FALSE
SUMMARY:Villa Brunch & Learn @ Clarendale Chandler
DESCRIPTION:Villa Brunch & Learn\n\nJoin us for a casual\, relaxed brunch in one of our beautiful new villa homes and learn more about Clarendale of Chandler. Enjoy your brunch favorites and learn about the lifestyle you can expect at our warm and welcoming senior living community.
X-ALT-DESC;FMTTYPE=text/html:Villa Brunch &amp\; Learn<br />\nJoin us for a casual\, relaxed brunch in one of our beautiful new villa homes and learn more about Clarendale of Chandler. Enjoy your brunch favorites and learn about the lifestyle you can expect at our warm and welcoming senior living community.
LOCATION:5900 S Gilbert Rd Chandler AZ 85249
UID:e.1561.38025
SEQUENCE:3
DTSTAMP:20260422T202213Z
URL:https://business.chandlerchamber.com/events/details/villa-brunch-learn-clarendale-chandler-38025
END:VEVENT

END:VCALENDAR
