BEGIN:VCALENDAR
VERSION:2.0
PRODID:-//ChamberMaster//Event Calendar 2.0//EN
METHOD:PUBLISH
X-PUBLISHED-TTL:P3D
REFRESH-INTERVAL:P3D
CALSCALE:GREGORIAN
BEGIN:VEVENT
DTSTART:20190316T180000Z
DTEND:20190316T210000Z
X-MICROSOFT-CDO-ALLDAYEVENT:FALSE
SUMMARY:Volunteer Fair
DESCRIPTION:Join the Downtown Chandler Library and For Our City-Chandler to discover new and exciting volunteer opportunities. A variety of local non-profit organizations will be on hand to share their needs and answer your questions. Find an organization that meets your interests and sign up to volunteer for a cause you believe in!
X-ALT-DESC;FMTTYPE=text/html:Join the Downtown Chandler Library and For Our City-Chandler to discover new and exciting volunteer opportunities. A variety of local non-profit organizations will be on hand to share their needs and answer your questions. Find an organization that meets your interests and sign up to volunteer for a cause you believe in!
LOCATION:22 S Delaware St Chandler\, AZ Downtown Library Copper Room
UID:e.1561.36624
SEQUENCE:3
DTSTAMP:20260423T045347Z
URL:https://business.chandlerchamber.com/events/details/volunteer-fair-03-16-2019-36624
END:VEVENT

END:VCALENDAR
