BEGIN:VCALENDAR
VERSION:2.0
PRODID:-//ChamberMaster//Event Calendar 2.0//EN
METHOD:PUBLISH
X-PUBLISHED-TTL:P3D
REFRESH-INTERVAL:P3D
CALSCALE:GREGORIAN
BEGIN:VEVENT
DTSTART:20220412T223000Z
DTEND:20220413T000000Z
X-MICROSOFT-CDO-ALLDAYEVENT:FALSE
SUMMARY:Volunteer Information Session
DESCRIPTION:Find out if Chandler Museum has a volunteer position that fits YOU. The Volunteer Information Session is a required step for becoming a Chandler Museum volunteer or intern. The information-rich\, 90-minute session will help you discover what areas of Chandler Museum interest you the most. You will learn how Museum volunteers and staff serve the community every day\, and get a peek into areas visitors seldom see. Learn how you can use your current skills\, or develop new ones\, while volunteering at Chandler Museum. Register to guarantee your spot: https://www.eventbrite.com/e/chandler-museum-volunteer-information-session-tickets-230990216957
X-ALT-DESC;FMTTYPE=text/html:Find out if Chandler Museum has a volunteer position that fits YOU. The Volunteer Information Session is a required step for becoming a Chandler Museum volunteer or intern. The information-rich\, 90-minute session will help you discover what areas of Chandler Museum interest you the most. You will learn how Museum volunteers and staff serve the community every day\, and get a peek into areas visitors seldom see. Learn how you can use your current skills\, or develop new ones\, while volunteering at Chandler Museum. Register to guarantee your spot: https://www.eventbrite.com/e/chandler-museum-volunteer-information-session-tickets-230990216957
LOCATION:Chandler Museum 300 S. Chandler Village Drive Chandler\, Arizona 85226
UID:e.1561.40665
SEQUENCE:3
DTSTAMP:20260423T233821Z
URL:https://business.chandlerchamber.com/events/details/volunteer-information-session-40665
END:VEVENT

END:VCALENDAR
