BEGIN:VCALENDAR
VERSION:2.0
PRODID:-//ChamberMaster//Event Calendar 2.0//EN
METHOD:PUBLISH
X-PUBLISHED-TTL:P3D
REFRESH-INTERVAL:P3D
CALSCALE:GREGORIAN
BEGIN:VEVENT
DTSTART:20190621T170000Z
DTEND:20190621T230000Z
X-MICROSOFT-CDO-ALLDAYEVENT:FALSE
SUMMARY:VR Roller Coaster Ride Fundraiser
DESCRIPTION:The Longest Day is a time to raise awareness and funds for Alzheimer's research. On June 21st Copper Creek Inn is having a Virtual Reality Roller Coaster Ride event in an effort to raise $1\,600. Stop in on June 21st from 10am to 4pm to experience a Virtual Reality Roller Coaster Ride for a minimum suggested donation of $5.00 per ride. All proceeds will go to support the Alzheimer's Association.
X-ALT-DESC;FMTTYPE=text/html:The Longest Day is a time to raise awareness and funds for Alzheimer&rsquo\;s research. On June 21st Copper Creek Inn is having a Virtual Reality Roller Coaster Ride event in an effort to raise $1\,600. Stop in on June 21st from 10am to 4pm to experience a Virtual Reality Roller Coaster Ride for a minimum suggested donation of $5.00 per ride. All proceeds will go to support the Alzheimer&rsquo\;s Association.
LOCATION:Copper Creek Inn Memory Care 2200 W Fairview St Chandler 85225
UID:e.1561.36737
SEQUENCE:3
DTSTAMP:20260423T003708Z
URL:https://business.chandlerchamber.com/events/details/vr-roller-coaster-ride-fundraiser-36737
END:VEVENT

END:VCALENDAR
