BEGIN:VCALENDAR
VERSION:2.0
PRODID:-//ChamberMaster//Event Calendar 2.0//EN
METHOD:PUBLISH
X-PUBLISHED-TTL:P3D
REFRESH-INTERVAL:P3D
CALSCALE:GREGORIAN
BEGIN:VEVENT
DTSTART:20260101T000000Z
DTEND:20260101T080000Z
X-MICROSOFT-CDO-ALLDAYEVENT:FALSE
SUMMARY:Vybe NYE Extravaganza NYE Party
DESCRIPTION:"Ring in the New Year at Vybe with your choice of experience! Enjoy a delectable 3-course dinner in Vybe Restaurant or host a lively group celebration in Vybe Venue. Prefer a more vibrant atmosphere? Join us in the Lounge for live band performances. Every experience includes access to all dance floors\, casino games with prizes\, a midnight champagne toast\, live entertainment\, and more!"
X-ALT-DESC;FMTTYPE=text/html:&ldquo\;Ring in the New Year at Vybe with your choice of experience! Enjoy a delectable 3-course dinner in Vybe Restaurant or host a lively group celebration in Vybe Venue. Prefer a more vibrant atmosphere? Join us in the Lounge for live band performances. Every experience includes access to all dance floors\, casino games with prizes\, a midnight champagne toast\, live entertainment\, and more!&rdquo\;
LOCATION:2301 S. Stearman Drive\, Chandler AZ
UID:e.1561.51923
SEQUENCE:3
DTSTAMP:20260424T050940Z
URL:https://business.chandlerchamber.com/events/details/vybe-nye-extravaganza-nye-party-51923
END:VEVENT

END:VCALENDAR
