BEGIN:VCALENDAR
VERSION:2.0
PRODID:-//ChamberMaster//Event Calendar 2.0//EN
METHOD:PUBLISH
X-PUBLISHED-TTL:P3D
REFRESH-INTERVAL:P3D
CALSCALE:GREGORIAN
BEGIN:VEVENT
DTSTART:20220309T150000Z
DTEND:20220309T160000Z
X-MICROSOFT-CDO-ALLDAYEVENT:FALSE
SUMMARY:Wake Up Chandler
DESCRIPTION:Join the Chandler Chamber and our sponsor\, Your CBD Store at Wake-Up Chandler. This is a great way to start off the morning by networking with other businesses. Bring your business cards and be prepared to give a 30 second commercial about your business. Enjoy the food and take advantage of the opportunity to promote your business. We'll also hear from this month's high-lighted non-profit Chandler/Gilbert Family YMCA. Door Prizes are Welcome!\n\n\n\n\n\nAdvanced registration for mixers is required. \n\n\n\nCOVID-19 Update:\n\nThe health and safety of our community is a top priority. So that we can continue to offer in-person events\, we ask guests to review and adhere the following protocols:\n\n \n\n	All individuals\, including those who are fully vaccinated\, are encouraged to wear masks while inside\, especially when distancing of 6 or more feet cannot be accommodated.\n\n \n\n\n	If you have been in close contact (within 6 feet of someone for a cumulative total of 15 minutes or more over a 24-hour period) with someone who has COVID-19\; OR if you are experiencing symptoms of COVID-19\, such as fever\, chills\, cough\, difficulty breathing\, new loss of taste or smell\, or other symptoms\; OR if attending an in-person meeting would compromise the health of you or a family member\, please do not attend any meeting or event in-person. We will gladly accommodate you with a virtual attendance link\, if possible.\n\n \n\nAs we navigate through this together\, you can rest assured that our team will work diligently to maintain high standards and quality programming to deliver a valuable experience to you\, even with these protocols in place. We will continue to monitor local\, state\, and federal guidance and will adjust these protocols as needed. The Chandler Chamber of Commerce reserves the right to cancel any in-person activity at any time through the guidance of our Board of Directors.
X-ALT-DESC;FMTTYPE=text/html:<span style="font-size:18px\;"><span style="font-family:arial\;"><span style="color:#000000\;"><span helvetica="" style="line-height: 18px\;">Join the Chandler Chamber and our sponsor\, <strong>Your CBD Store </strong>at Wake-Up Chandler. This is a great way to start off the morning by networking with other businesses. Bring your business cards and be prepared to give a 30 second commercial about your business. Enjoy the food and take advantage of the opportunity&nbsp\;to promote your business.</span></span></span><span style="color:#000000\;"><span helvetica="" style="line-height: 18px\;"> </span></span><span style="color: rgb(51\, 51\, 51)\; font-family: sans-serif\, Arial\, Verdana\, &quot\;Trebuchet MS&quot\;\; background-color: rgb(255\, 255\, 255)\;">We&#39\;ll also hear from this month&#39\;s high-lighted&nbsp\;</span><span style="color: rgb(51\, 51\, 51)\; font-family: sans-serif\, Arial\, Verdana\, &quot\;Trebuchet MS&quot\;\; background-color: rgb(255\, 255\, 255)\;">non-profit <strong>Chandler/Gilbert Family YMCA</strong></span><span style="color: rgb(51\, 51\, 51)\; font-family: sans-serif\, Arial\, Verdana\, &quot\;Trebuchet MS&quot\;\; background-color: rgb(255\, 255\, 255)\;">.&nbsp\;</span><span style="font-family:arial\;"><span style="color:#000000\;"><span helvetica="" style="line-height: 18px\;">Door Prizes are Welcome!</span></span></span></span><br />\n<br style="color: rgb(0\, 0\, 0)\; font-family: arial\; font-size: 16px\;" />\n<br style="color: rgb(0\, 0\, 0)\; font-family: arial\; font-size: 16px\;" />\n<span style="font-size:16px\;"><span style="font-family:arial\;"><span style="color:#000000\;"><span style="line-height: 20.8px\;">Advanced registration for mixers is required.&nbsp\;</span></span></span></span><br />\n<br />\n<strong><u>COVID-19 Update:</u></strong><br />\nThe health and safety of our community is a&nbsp\;top priority. So that we can continue to offer in-person events\, we ask guests to review and adhere the following protocols:<br />\n&nbsp\;\n<ul>\n	<li>All individuals\, including those who are fully vaccinated\, are encouraged to wear masks while inside\, especially when distancing of 6 or more feet cannot be accommodated.</li>\n</ul>\n&nbsp\;\n\n<ul>\n	<li>If you have been in close contact (within 6 feet of someone for a cumulative total of 15 minutes or more over a 24-hour period) with someone who has COVID-19\; OR if you are experiencing symptoms of COVID-19\, such as fever\, chills\, cough\, difficulty breathing\, new loss of taste or smell\, or other symptoms\; OR if attending an in-person meeting would compromise the health of you or a family member\, please do not attend any meeting or event in-person. We will gladly accommodate you with a virtual attendance link\, if possible.</li>\n</ul>\n&nbsp\;<br />\nAs we navigate through this together\, you can rest assured that our team will work diligently to maintain high standards and quality programming to deliver a valuable experience to you\, even with these protocols in place.&nbsp\;We will continue to monitor local\, state\, and federal guidance and will adjust these protocols as needed.&nbsp\;The Chandler Chamber of Commerce reserves the right to cancel any in-person activity at any time through the guidance of our Board of Directors.<br />\n&nbsp\;
LOCATION:Tat Wong Kung Fu 2160 N Alma School Rd St 122 Chandler\, AZ 85224
UID:e.1561.8866
SEQUENCE:3
DTSTAMP:20260423T234040Z
URL:https://business.chandlerchamber.com/events/details/wake-up-chandler-03-09-2022-8866
END:VEVENT

END:VCALENDAR
