BEGIN:VCALENDAR
VERSION:2.0
PRODID:-//ChamberMaster//Event Calendar 2.0//EN
METHOD:PUBLISH
X-PUBLISHED-TTL:P3D
REFRESH-INTERVAL:P3D
CALSCALE:GREGORIAN
BEGIN:VEVENT
DTSTART:20200513T143000Z
DTEND:20200513T153000Z
X-MICROSOFT-CDO-ALLDAYEVENT:FALSE
SUMMARY:Wake Up Chandler
DESCRIPTION:Virtual Wake Up Chandler\nJoin us for a Zoom Meeting Wake Up Chandler! While we all try to keep our physical distance\, it doesn't mean we can't have fun and be proactive while we virtually network!  Through Zoom\, we will break registrants up into small groups to network.  Then we will bring everyone back together in one chat room to announce our prize winners. Everyone that registers and pays for the event\, will receive the list of attendees with their contact information that will include their 30\n\nsecond commercial about their business.
X-ALT-DESC;FMTTYPE=text/html:<span style="color: blue\;"><span style="font-family: calibri\,sans-serif\;"><span style="font-size: 16pt\;"><strong>Virtual Wake Up Chandler</strong></span></span></span>\n<p class="x_MsoNormal" style="margin: 0in 0in 0pt\; color: rgb(32\, 31\, 30)\; font-family: Calibri\, sans-serif\; font-size: 11pt\; background-color: rgb(255\, 255\, 255)\;">Join us for a&nbsp\;<b>Zoom Meeting Wake Up Chandler!&nbsp\;</b>While we all try to keep our physical distance\, it doesn&#39\;t mean we can&#39\;t have fun and be proactive while we virtually network!&nbsp\; Through Zoom\, we will break registrants up into small groups to network.&nbsp\; Then we will bring everyone back together in one chat room to announce our prize winners. Everyone that registers and pays for the event\, will receive the list of attendees with their contact information that will include their 30<br />\nsecond commercial about their business.</p>\n
LOCATION:ZOOM event. You will receive the Zoom information in your confirmation email.
UID:e.1561.8844
SEQUENCE:3
DTSTAMP:20260424T163330Z
URL:https://business.chandlerchamber.com/events/details/wake-up-chandler-05-13-2020-8844
END:VEVENT

END:VCALENDAR
