BEGIN:VCALENDAR
VERSION:2.0
PRODID:-//ChamberMaster//Event Calendar 2.0//EN
METHOD:PUBLISH
X-PUBLISHED-TTL:P3D
REFRESH-INTERVAL:P3D
CALSCALE:GREGORIAN
BEGIN:VEVENT
DTSTART:20200610T143000Z
DTEND:20200610T153000Z
X-MICROSOFT-CDO-ALLDAYEVENT:FALSE
SUMMARY:Wake Up Chandler
DESCRIPTION:Wake-Up Chandler is a great way to start off the morning by virtually networking with other businesses. Be prepared to give a 30 second commercial about your business. Take advantage of the opportunity to promote your business. Type your 30 second commercial in the comment section so that your information can be shared with everyone attending the meeting. Interested in donating a door prize? Email Mia at mia@chandlerchamber.com with details by June 9th at 12:00pm.\n\n\n\n\n\nAdvanced registration for mixers is required.
X-ALT-DESC;FMTTYPE=text/html:<span style="font-size: 16px\;"><span style="font-family: arial\;"><span style="color: rgb(0\, 0\, 0)\;"><span helvetica="" style="line-height: 18px\;">Wake-Up Chandler is a great way to start off the morning by virtually networking with other businesses. Be prepared to give a 30 second commercial about your business. Take advantage of the opportunity&nbsp\;to promote your business. Type your 30 second commercial in the comment section so that your information can be shared with everyone attending the meeting. Interested in donating a door prize? Email Mia at mia@chandlerchamber.com with details by June 9th at 12:00pm.</span></span></span></span><br />\n<br style="color: rgb(0\, 0\, 0)\; font-family: arial\; font-size: 16px\;" />\n<br style="color: rgb(0\, 0\, 0)\; font-family: arial\; font-size: 16px\;" />\n<span style="font-size: 16px\;"><span style="font-family: arial\;"><span style="color: rgb(0\, 0\, 0)\;"><span style="line-height: 20.8px\;">Advanced registration for mixers is required.&nbsp\;&nbsp\;</span></span></span></span>
LOCATION:Once registered\, you will receive your Zoom information in your confirmation email.
UID:e.1561.8845
SEQUENCE:3
DTSTAMP:20260424T181229Z
URL:https://business.chandlerchamber.com/events/details/wake-up-chandler-06-10-2020-8845
END:VEVENT

END:VCALENDAR
