BEGIN:VCALENDAR
VERSION:2.0
PRODID:-//ChamberMaster//Event Calendar 2.0//EN
METHOD:PUBLISH
X-PUBLISHED-TTL:P3D
REFRESH-INTERVAL:P3D
CALSCALE:GREGORIAN
BEGIN:VEVENT
DTSTART:20200708T143000Z
DTEND:20200708T153000Z
X-MICROSOFT-CDO-ALLDAYEVENT:FALSE
SUMMARY:Wake Up Chandler
DESCRIPTION:Wake-Up Chandler is a great way to start off the morning by networking with other businesses. Visit in the breakout rooms for some 30 sec commercials (and maybe a surprise or two) and make some new connections. Take advantage of the opportunity to promote your business. If you'd like to donate a door prize please contact Mia at mia@chandlerchamber.com\n\n\n\n\n\nAdvanced registration for mixers is required. Admission at the door without registration is $10.  Registration admission is non-refundable.
X-ALT-DESC;FMTTYPE=text/html:<span style="font-size: 16px\;"><span style="font-family: arial\;"><span style="color: rgb(0\, 0\, 0)\;"><span helvetica="" style="line-height: 18px\;">Wake-Up Chandler is a great way to start off the morning by networking with other businesses. Visit in the breakout rooms for some 30 sec commercials (and maybe a surprise or two) and make some new connections. Take advantage of the opportunity&nbsp\;to promote your business. If you'd like to donate a door prize please contact Mia at mia@chandlerchamber.com</span></span></span></span><br>\n<br style="color: rgb(0\, 0\, 0)\; font-family: arial\; font-size: 16px\;">\n<br style="color: rgb(0\, 0\, 0)\; font-family: arial\; font-size: 16px\;">\n<span style="font-size: 16px\;"><span style="font-family: arial\;"><span style="color: rgb(0\, 0\, 0)\;"><span style="line-height: 20.8px\;">Advanced registration for mixers is required. Admission at the door without registration is $10. &nbsp\;Registration a</span><span style="line-height: 20.8px\;">dmission is non-refundable.</span></span></span></span>
LOCATION:Virtual Zoom Meeting
UID:e.1561.8846
SEQUENCE:3
DTSTAMP:20260424T195206Z
URL:https://business.chandlerchamber.com/events/details/wake-up-chandler-07-08-2020-8846
END:VEVENT

END:VCALENDAR
