BEGIN:VCALENDAR
VERSION:2.0
PRODID:-//ChamberMaster//Event Calendar 2.0//EN
METHOD:PUBLISH
X-PUBLISHED-TTL:P3D
REFRESH-INTERVAL:P3D
CALSCALE:GREGORIAN
BEGIN:VEVENT
DTSTART:20200812T143000Z
DTEND:20200812T153000Z
X-MICROSOFT-CDO-ALLDAYEVENT:FALSE
SUMMARY:Wake Up Chandler
DESCRIPTION:Wake-Up Chandler is a great way to start off the morning by networking with other businesses. Visit the breakout rooms\, share your 30 sec commercial\, meet and connect with other members.\n\nAfter the meeting\, you'll receive the contact information of everyone who attended. If you're interested in being a breakout room 'host' or if you would like to donate a door prize to promote your business\, please email Mia at mia@chandlerchamber.com for more information.\n\nAdvanced registration for mixers is required.  Registration admission is non-refundable.
X-ALT-DESC;FMTTYPE=text/html:<span style="font-size:16px\;"><span style="font-family:arial\;"><span style="color:#000000\;"><span helvetica="" style="line-height: 18px\;">Wake-Up Chandler is a great way to start off the morning by networking with other businesses. Visit the breakout rooms\, share your 30 sec commercial\, meet and connect with other members.</span></span></span></span><br>\nAfter the meeting\, you'll receive the contact information of everyone who attended. If you're interested in being a breakout room 'host' or if you would like to donate a door prize to promote your business\, please email Mia at mia@chandlerchamber.com for more information.<br style="color: rgb(0\, 0\, 0)\; font-family: arial\; font-size: 16px\;">\n<span style="font-size:16px\;"><span style="font-family:arial\;"><span style="color:#000000\;"><span style="line-height: 20.8px\;">Advanced registration for mixers is required.&nbsp\; Registration a</span><span style="line-height: 20.8px\;">dmission is non-refundable.</span></span></span></span>
LOCATION:Virtual Networking Event Your zoom link information will be sent in your registration confirmation email.
UID:e.1561.8847
SEQUENCE:3
DTSTAMP:20260424T212631Z
URL:https://business.chandlerchamber.com/events/details/wake-up-chandler-08-12-2020-8847
END:VEVENT

END:VCALENDAR
