BEGIN:VCALENDAR
VERSION:2.0
PRODID:-//ChamberMaster//Event Calendar 2.0//EN
METHOD:PUBLISH
X-PUBLISHED-TTL:P3D
REFRESH-INTERVAL:P3D
CALSCALE:GREGORIAN
BEGIN:VEVENT
DTSTART:20191009T143000Z
DTEND:20191009T160000Z
X-MICROSOFT-CDO-ALLDAYEVENT:FALSE
SUMMARY:Wake Up Chandler
DESCRIPTION:Wake-Up Chandler is a great way to start off the morning by networking with other businesses. Bring your business cards and brochures\, and be prepared to give a 30 second commercial about your business. Enjoy the food and take advantage of the opportunity to promote your business. Door Prizes are Welcome!\n\n\n\n\n\nAdvanced registration for mixers is required. Admission at the door without registration is $10.  Registration admission is non-refundable.
X-ALT-DESC;FMTTYPE=text/html:<span style="font-size:16px\;"><span style="font-family:arial\;"><span style="color:#000000\;"><span helvetica="" style="line-height: 18px\;">Wake-Up Chandler is a great way to start off the morning by networking with other businesses. Bring your business cards and brochures\,&nbsp\;and be prepared to give a 30 second commercial about your business. Enjoy the food and take advantage of the opportunity&nbsp\;to promote your business. Door Prizes are Welcome!</span></span></span></span><br />\n<br style="color: rgb(0\, 0\, 0)\; font-family: arial\; font-size: 16px\;" />\n<br style="color: rgb(0\, 0\, 0)\; font-family: arial\; font-size: 16px\;" />\n<span style="font-size:16px\;"><span style="font-family:arial\;"><span style="color:#000000\;"><span style="line-height: 20.8px\;">Advanced registration for mixers is required. Admission at the door without registration is $10. &nbsp\;Registration a</span><span style="line-height: 20.8px\;">dmission is non-refundable.</span></span></span></span>
LOCATION:American Family Insurance 1791 E Queen Creek Rd #3 Chandler AZ 85286
UID:e.1561.8837
SEQUENCE:3
DTSTAMP:20260422T202207Z
URL:https://business.chandlerchamber.com/events/details/wake-up-chandler-10-09-2019-8837
END:VEVENT

END:VCALENDAR
