BEGIN:VCALENDAR
VERSION:2.0
PRODID:-//ChamberMaster//Event Calendar 2.0//EN
METHOD:PUBLISH
X-PUBLISHED-TTL:P3D
REFRESH-INTERVAL:P3D
CALSCALE:GREGORIAN
BEGIN:VEVENT
DTSTART:20261104T150000Z
DTEND:20261104T160000Z
X-MICROSOFT-CDO-ALLDAYEVENT:FALSE
SUMMARY:Wake Up Chandler @ Arizona Elite Properties
DESCRIPTION:Wake-Up Chandler is a great way to start off the morning by networking! Bring your business cards and be prepared to give a 15 second commercial about your business. Enjoy the food and take advantage of the opportunity to promote yourself.\n\n\n\nDoor Prizes are Welcome!\n\n\n\nEvent Location: Arizona Elite Properties\nWhether you are a first time home buyer\, a seasoned investor\, or a tenant looking for a place to rent\, we have agents throughout the Valley of the Sun including Phoenix\, Mesa\, Gilbert\, Chandler\, Maricopa\, Queen Creek\, Glendale\, Surprise\, Scottsdale and other valley communities. We also have agents in Payson\, Pine\, Flagstaff\, and Pinetop-Lakeside\, Tucson\, Strawberry and surrounding areas ready to serve your real estate needs. Arizona Elite Properties is at your service. We follow the wide ethics and standards  better than anyone. No matter where you are in the Valley of the Sun\, The Rim Country\, Tucson or Flagstaff one of our professional real estate consultants is there to assist you. We follow the Code of Ethics and Standard of Care. Contact Arizona Elite Properties for all of your real estate needs.\n\n\n\n\n\n\nFeatured Non-Profit:  Valley Bloom\n\nOur 100% volunteer-run nonprofit focuses on meeting the real needs of children and adults in crisis from school essentials to basic everyday needs. Valley Bloom transforms the lives of children and adults through community programs. \n\n\n\n\n\nEvent Sponsor:  Global Credit Union\n\nJoining Global Credit Union means changing the way you see your financial institution. We're non-for-profit\, which means or primary focus is giving you the tools and financial products you need to improve your financial life - instead of trying to make money off you like traditional banks do. With lower rates\, fewer fees\, and higher returns on deposits\, Global is the perfect home for people that want to get more from their money. Open your first account today and see why more and more members are falling in love with their credit union!\n\n\n\n\n\n\n\nAbout the Chandler Chamber\n\nRepresenting over 175\,000 employees from over 1\,700 member businesses\, the Chandler Chamber of Commerce has brought the East Valley together for over 100 years. The Chandler Chamber champions both small businesses and established corporations by providing innovative workforce development programming\, by advocating for employers at the city and state level\, and by providing collaborative opportunities through economic updates\, industry-specific roundtables\, a young professionals series\, and more.
X-ALT-DESC;FMTTYPE=text/html:<span style="font-size:16px\;"><span style="font-family:arial\;"><span style="color:#333333\;">Wake-Up Chandler is a great way to start off the morning by networking! Bring your business cards and be prepared to give a 15 second commercial about your business. Enjoy the food and take advantage of the opportunity&nbsp\;to promote yourself.<br />\n<br />\nDoor Prizes are Welcome!<br />\n<br />\n<strong><u>Event Location</u></strong><strong>:</strong>&nbsp\;Arizona Elite Properties</span></span></span>\n<p class="text-align-left" style="box-sizing: border-box\; border: 0px solid rgb(51\, 51\, 51)\; -webkit-font-smoothing: antialiased\; margin-top: 0px\; margin-bottom: 0px\; -webkit-tap-highlight-color: transparent\; color: rgb(86\, 86\, 86)\; font-family: Oxygen\, &quot\;Oxygen Fallback&quot\;\; font-size: 16px\; background-color: rgb(255\, 255\, 255)\;"><span style="font-size:16px\;"><span style="font-family:arial\;"><span style="box-sizing: border-box\; border: 0px solid rgb(51\, 51\, 51)\; -webkit-font-smoothing: antialiased\; -webkit-tap-highlight-color: transparent\; display: initial\;">Whether you are a first time home buyer\, a seasoned investor\, or a tenant looking for a place to rent\, we have agents throughout the Valley of the Sun including Phoenix\, Mesa\, Gilbert\, Chandler\, Maricopa\, Queen Creek\, Glendale\, Surprise\, Scottsdale and other valley communities. We also have agents in Payson\, Pine\, Flagstaff\, and Pinetop-Lakeside\, Tucson\, Strawberry and surrounding areas ready to serve your real estate needs. Arizona Elite Properties is at your service. W</span><span style="text-indent: -1.5em\;">e follow the wide ethics and standards&nbsp\; better than anyone. No matter where you are in the Valley of the Sun\, The Rim Country\, Tucson or Flagstaff one of our professional real estate consultants is there to assist you. We follow the Code of Ethics and Standard of Care. Contact Arizona Elite Properties for all of your real estate needs.</span></span></span></p>\n<br />\n<br />\n<br style="font-variant-ligatures:normal\;font-variant-caps:normal\;orphans:2\;text-align:start\;widows:2\;-webkit-text-stroke-width:0px\;text-decoration-thickness:initial\;text-decoration-style:initial\;word-spacing:0px\;" />\n<span style="font-size:16px\;"><span style="font-family:arial\;"><span style="color:#333333\;"><strong><u><span style="color:#333333\;"><span style="font-variant-ligatures:normal\;font-variant-caps:normal\;orphans:2\;text-align:start\;widows:2\;-webkit-text-stroke-width:0px\;text-decoration-thickness:initial\;text-decoration-style:initial\;word-spacing:0px\;">Featured Non-Profit</span></span></u></strong><strong><span style="color:#333333\;">:</span></strong><span style="color:#333333\;">&nbsp\; Valley Bloom</span></span><br />\n<span style="color: rgb(0\, 0\, 0)\; text-align: center\; white-space-collapse: preserve\;">Our 100% volunteer-run nonprofit focuses on meeting the real needs of children and adults in crisis&mdash\;from school essentials to basic everyday needs. </span></span></span><span style="text-decoration-line: inherit\; font-family: arial\; font-size: 16px\; color: rgb(0\, 0\, 0)\; text-align: center\; white-space-collapse: preserve\;">Valley Bloom transforms the lives of children and adults through community programs. </span><br />\n<br />\n<br style="font-variant-ligatures:normal\;font-variant-caps:normal\;orphans:2\;text-align:start\;widows:2\;-webkit-text-stroke-width:0px\;text-decoration-thickness:initial\;text-decoration-style:initial\;word-spacing:0px\;" />\n<span style="font-size:16px\;"><span style="font-family:arial\;"><strong><u><span style="color:#333333\;"><span style="font-variant-ligatures:normal\;font-variant-caps:normal\;orphans:2\;text-align:start\;widows:2\;-webkit-text-stroke-width:0px\;text-decoration-thickness:initial\;text-decoration-style:initial\;word-spacing:0px\;">Event Sponsor</span></span></u></strong><strong><span style="color:#333333\;">:</span></strong><span style="color:#333333\;">&nbsp\; Global Credit Union</span></span></span><br />\n<span style="font-family: arial\; font-size: 16px\;">Joining Global Credit Union means changing the way you see your financial institution. We&#39\;re non-for-profit\, which means or primary focus is giving you the tools and financial products you need to improve your financial life - instead of trying to make money off you like traditional banks do. With lower rates\, fewer fees\, and higher returns on deposits\, Global is the perfect home for people that want to get more from their money. Open your first account today and see why more and more members are falling in love with their credit union!</span><br font-size:="" style="font-family: arial\;" trebuchet="" />\n<br />\n<br style="font-variant-ligatures:normal\;font-variant-caps:normal\;orphans:2\;text-align:start\;widows:2\;-webkit-text-stroke-width:0px\;text-decoration-thickness:initial\;text-decoration-style:initial\;word-spacing:0px\;" />\n<br style="font-variant-ligatures:normal\;font-variant-caps:normal\;orphans:2\;text-align:start\;widows:2\;-webkit-text-stroke-width:0px\;text-decoration-thickness:initial\;text-decoration-style:initial\;word-spacing:0px\;" />\n<span style="font-size:16px\;"><span style="font-family:arial\;"><strong style="font-variant-ligatures:normal\;font-variant-caps:normal\;orphans:2\;text-align:start\;widows:2\;-webkit-text-stroke-width:0px\;text-decoration-thickness:initial\;text-decoration-style:initial\;word-spacing:0px\;"><u><span style="color:#333333\;">About the Chandler Chamber</span></u></strong><br style="font-variant-ligatures:normal\;font-variant-caps:normal\;orphans:2\;text-align:start\;widows:2\;-webkit-text-stroke-width:0px\;text-decoration-thickness:initial\;text-decoration-style:initial\;word-spacing:0px\;" />\n<span style="color:#333333\;"><span style="font-variant-ligatures:normal\;font-variant-caps:normal\;orphans:2\;text-align:start\;widows:2\;-webkit-text-stroke-width:0px\;text-decoration-thickness:initial\;text-decoration-style:initial\;word-spacing:0px\;">Representing over 175\,000 employees from over 1\,700 member businesses\, the Chandler Chamber of Commerce has brought the East Valley together for over 100 years. The Chandler Chamber champions both small businesses and established corporations by providing innovative workforce development programming\, by advocating for employers at the city and state level\, and by providing collaborative opportunities through economic updates\, industry-specific roundtables\, a young professionals series\, and more.</span></span></span></span>
LOCATION:Arizona Elite Properties 2425 S Stearman Dr #120 Chandler\, AZ 85286
UID:e.1561.52017
SEQUENCE:3
DTSTAMP:20260424T105439Z
URL:https://business.chandlerchamber.com/events/details/wake-up-chandler-52017
END:VEVENT

END:VCALENDAR
