BEGIN:VCALENDAR
VERSION:2.0
PRODID:-//ChamberMaster//Event Calendar 2.0//EN
METHOD:PUBLISH
X-PUBLISHED-TTL:P3D
REFRESH-INTERVAL:P3D
CALSCALE:GREGORIAN
BEGIN:VEVENT
DTSTART:20261014T150000Z
DTEND:20261014T160000Z
X-MICROSOFT-CDO-ALLDAYEVENT:FALSE
SUMMARY:Wake Up Chandler @ Costco
DESCRIPTION:Wake-Up Chandler is a great way to start off the morning by networking! Bring your business cards and be prepared to give a 15 second commercial about your business. Enjoy the food and take advantage of the opportunity to promote yourself.\n\n\n\nDoor Prizes are Welcome!\n\n\n\nEvent Location: Costco\n\nCostco Wholesale is a multi-billion dollar global retailer with warehouse club operations in eight countries. We are the recognized leader in our field\, dedicated to quality in every area of our business and respected for our outstanding business ethics. Despite our large size and explosive international expansion\, we continue to provide a family atmosphere in which our employees thrive and succeed. We are proud to have been named by Washington CEO Magazine as one of the top three companies to work for in the state of Washington.\n\n\n\nFeatured Non-Profit:  To Be Announced\n \nEvent Sponsor:  Global Credit Union\n\nJoining Global Credit Union means changing the way you see your financial institution. We're non-for-profit\, which means or primary focus is giving you the tools and financial products you need to improve your financial life - instead of trying to make money off you like traditional banks do. With lower rates\, fewer fees\, and higher returns on deposits\, Global is the perfect home for people that want to get more from their money. Open your first account today and see why more and more members are falling in love with their credit union!\n\n\n\n\n\nAbout the Chandler Chamber\n\nRepresenting over 175\,000 employees from over 1\,700 member businesses\, the Chandler Chamber of Commerce has brought the East Valley together for over 100 years. The Chandler Chamber champions both small businesses and established corporations by providing innovative workforce development programming\, by advocating for employers at the city and state level\, and by providing collaborative opportunities through economic updates\, industry-specific roundtables\, a young professionals series\, and more.
X-ALT-DESC;FMTTYPE=text/html:<span style="font-family:arial\;"><span font-size:="" trebuchet=""><span style="font-size: 16px\;">Wake-Up Chandler is a great way to start off the morning by networking! Bring your business cards and be prepared to give a 15 second commercial about your business. Enjoy the food and take advantage of the opportunity&nbsp\;to promote yourself.<br />\n<br />\nDoor Prizes are Welcome!<br />\n<br />\n<strong><u>Event Location</u>: </strong>Costco</span></span></span><br />\n<span style="font-size:16px\;"><span style="color: rgba(0\, 0\, 0\, 0.8)\;"><span style="font-family:arial\;">Costco Wholesale is a multi-billion dollar global retailer with warehouse club operations in eight countries. We are the recognized leader in our field\, dedicated to quality in every area of our business and respected for our outstanding business ethics. Despite our large size and explosive international expansion\, we continue to provide a family atmosphere in which our employees thrive and succeed. We are proud to have been named by Washington CEO Magazine as one of the top three companies to work for in the state of Washington.</span></span></span><br />\n<br style="font-family: arial\; font-size: 16px\;" />\n<span style="font-family:arial\;"><span font-size:="" trebuchet=""><span style="font-size: 16px\;"><strong><u>Featured Non-Profit</u>:</strong>&nbsp\; To Be Announced</span></span></span>\n<p>&nbsp\;</p>\n<span style="font-family:arial\;"><span font-size:="" trebuchet=""><span style="font-size: 16px\;"><u><strong>E</strong></u><strong><u><u><strong>v</strong></u>ent Sponsor</u>:</strong>&nbsp\;&nbsp\;Global Credit Union</span></span><br />\n<span style="font-size:16px\;">Joining Global Credit Union means changing the way you see your financial institution. We&#39\;re non-for-profit\, which means or primary focus is giving you the tools and financial products you need to improve your financial life - instead of trying to make money off you like traditional banks do. With lower rates\, fewer fees\, and higher returns on deposits\, Global is the perfect home for people that want to get more from their money. Open your first account today and see why more and more members are falling in love with their credit union!</span><br font-size:="" style="color: rgb(51\, 51\, 51)\; font-family: sans-serif\, Arial\, Verdana\, " trebuchet="" />\n<br font-size:="" style="color: rgb(51\, 51\, 51)\; font-family: sans-serif\, Arial\, Verdana\, " trebuchet="" />\n<br font-size:="" style="color: rgb(51\, 51\, 51)\; font-family: sans-serif\, Arial\, Verdana\, " trebuchet="" />\n<strong style="font-family: arial\; font-size: 16px\;"><u>About the Chandler Chamber</u></strong><br style="font-family: arial\; font-size: 16px\;" />\n<span style="font-size: 16px\;">Representing over 175\,000 employees from over 1\,700 member businesses\, the Chandler Chamber of Commerce has brought the East Valley together for over 100 years. The Chandler Chamber champions both small businesses and established corporations by providing innovative workforce development programming\, by advocating for employers at the city and state level\, and by providing collaborative opportunities through economic updates\, industry-specific roundtables\, a young professionals series\, and more.</span></span>
LOCATION:Costco Chandler 595 S Galleria Way Chandler\, AZ 85226
UID:e.1561.52011
SEQUENCE:3
DTSTAMP:20260424T093101Z
URL:https://business.chandlerchamber.com/events/details/wake-up-chandler-costco-52011
END:VEVENT

END:VCALENDAR
