BEGIN:VCALENDAR
VERSION:2.0
PRODID:-//ChamberMaster//Event Calendar 2.0//EN
METHOD:PUBLISH
X-PUBLISHED-TTL:P3D
REFRESH-INTERVAL:P3D
CALSCALE:GREGORIAN
BEGIN:VEVENT
DTSTART;VALUE=DATE:20220317
DTEND;VALUE=DATE:20220324
TRANSP:TRANSPARENT
X-MICROSOFT-CDO-ALLDAYEVENT:TRUE
SUMMARY:Waking Up Wall Street - Alley Activation Demo
DESCRIPTION:The idea of activating alleyways has been embraced as an urbanist strategy across the globe to reclaim public space for cities and to create more interconnected pedestrian networks.\n\n\n\nDuring the COVID-19 pandemic\, alleyways were lifelines for restaurants looking to create additional outdoor seating that allowed for safe social-distancing. As alleyways transform from dark\, underutilized spaces frequented mostly by service trucks to vibrant arteries within cities that safely connect people and places\, they help to create more livable communities.\n\n\n\nA majority of the robust alleyway activation projects are found in markets that do not face the same heat-related challenges that projects in metropolitan Phoenix will face\, limiting applicability. The Waking Up Wall St. project will engage diverse stakeholders and community members to explore\, demonstrate\, jump-start\, and showcase the implementation of a comprehensive alleyway activation approach that is unique to Maricopa County's hot\, desert environment.\n\n\n\nThe approaches developed through this project can be applied throughout metropolitan Phoenix\, where there are many other alleys that could be used as year-round pedestrian corridors.
X-ALT-DESC;FMTTYPE=text/html:The idea of activating alleyways has been embraced as an urbanist strategy across the globe to reclaim public space for cities and to create more interconnected pedestrian networks.<br />\n<br />\nDuring the COVID-19 pandemic\, alleyways were lifelines for restaurants looking to create additional outdoor seating that allowed for safe social-distancing. As alleyways transform from dark\, underutilized spaces frequented mostly by service trucks to vibrant arteries within cities that safely connect people and places\, they help to create more livable communities.<br />\n<br />\nA majority of the robust alleyway activation projects are found in markets that do not face the same heat-related challenges that projects in metropolitan Phoenix will face\, limiting applicability. The Waking Up Wall St. project will engage diverse stakeholders and community members to explore\, demonstrate\, jump-start\, and showcase the implementation of a comprehensive alleyway activation approach that is unique to Maricopa County&#39\;s hot\, desert environment.<br />\n<br />\nThe approaches developed through this project can be applied throughout metropolitan Phoenix\, where there are many other alleys that could be used as year-round pedestrian corridors.
LOCATION:S Wall St Chandler\, AZ 85225
UID:e.1561.40619
SEQUENCE:3
DTSTAMP:20260423T234306Z
URL:https://business.chandlerchamber.com/events/details/waking-up-wall-street-alley-activation-demo-40619
END:VEVENT

END:VCALENDAR
