BEGIN:VCALENDAR
VERSION:2.0
PRODID:-//ChamberMaster//Event Calendar 2.0//EN
METHOD:PUBLISH
X-PUBLISHED-TTL:P3D
REFRESH-INTERVAL:P3D
CALSCALE:GREGORIAN
BEGIN:VEVENT
DTSTART:20180120T170000Z
DTEND:20180120T203000Z
X-MICROSOFT-CDO-ALLDAYEVENT:FALSE
SUMMARY:Walk In the Park - Assistance League of East Valley
DESCRIPTION:Join us in the spirit of fun and giving 5K and 2K walk* Bring your family\, friends\, neighbors\, grandparents\, babies in strollers and toddlers on trikes! A donation of children's new underwear\, socks and tees would be appreciated. *This is a non--competitive event
X-ALT-DESC;FMTTYPE=text/html:Join us in the spirit of fun and giving 5K and 2K walk* Bring your family\, friends\, neighbors\, grandparents\, babies in strollers and toddlers on trikes! A donation of children&#39\;s new underwear\, socks and tees would be appreciated. *This is a non--competitive event
LOCATION:Tumbleweed Park - McDowell Pavilion 745 E Germann Rd. Chandler\, AZ 85286
UID:e.1561.20245
SEQUENCE:3
DTSTAMP:20260423T233616Z
URL:https://business.chandlerchamber.com/events/details/walk-in-the-park-assistance-league-of-east-valley-20245
END:VEVENT

END:VCALENDAR
