BEGIN:VCALENDAR
VERSION:2.0
PRODID:-//ChamberMaster//Event Calendar 2.0//EN
METHOD:PUBLISH
X-PUBLISHED-TTL:P3D
REFRESH-INTERVAL:P3D
CALSCALE:GREGORIAN
BEGIN:VEVENT
DTSTART:20220206T023000Z
DTEND:20220206T043000Z
X-MICROSOFT-CDO-ALLDAYEVENT:FALSE
SUMMARY:We Banjo 3
DESCRIPTION:Mix the skills and strengths of the Flecktones with a bit of Punch Brothers\, add a dash of Gaelic Storm - now you've got one of the best live acts to come out of Ireland in recent years. From Galway\, Ireland\, the multi-award winning We Banjo 3 finds common ground between Old World tradition and authentic Americana by playing their banjo\, fiddle\, guitar\, and mandolin in an innovative fusion of styles that they dub "Celtgrass."
X-ALT-DESC;FMTTYPE=text/html:Mix the skills and strengths of the Flecktones with a bit of Punch Brothers\, add a dash of Gaelic Storm - now you&rsquo\;ve got one of the best live acts to come out of Ireland in recent years. From Galway\, Ireland\, the multi-award winning We Banjo 3 finds common ground between Old World tradition and authentic Americana by playing their banjo\, fiddle\, guitar\, and mandolin in an innovative fusion of styles that they dub &ldquo\;Celtgrass.&rdquo\;
LOCATION:Chandler Center for the Arts 250 N. Arizona Avenue Chandler\, AZ 85225
UID:e.1561.40094
SEQUENCE:3
DTSTAMP:20260423T233132Z
URL:https://business.chandlerchamber.com/events/details/we-banjo-3-02-05-2022-40094
END:VEVENT

END:VCALENDAR
