BEGIN:VCALENDAR
VERSION:2.0
PRODID:-//ChamberMaster//Event Calendar 2.0//EN
METHOD:PUBLISH
X-PUBLISHED-TTL:P3D
REFRESH-INTERVAL:P3D
CALSCALE:GREGORIAN
BEGIN:VEVENT
DTSTART:20200729T143000Z
DTEND:20200729T153000Z
X-MICROSOFT-CDO-ALLDAYEVENT:FALSE
SUMMARY:Wednesday Morning Leads Group Chandler Chamber
DESCRIPTION:The Leads Group will focus on building business relationships in the S. Chandler area with the support of the Chandler Chamber of Commerce.  Our mission of this group is to develop trustworthy relationships in the S. Chandler  community while promoting ethical business and returning to the basics of doing business on a handshake.
X-ALT-DESC;FMTTYPE=text/html:<div align="left" style="color: rgb(68\, 68\, 68)\; line-height: 18px\; font-family: Helvetica Neue\, Arial\, sans-serif\; font-size: 13px\;">\n<p style="margin: 0in 0in 0pt\;"><span style="font-family: arial\, sans-serif\; font-size: 12pt\;">The Leads Group will focus on building business relationships in the&nbsp\;S. Chandler area with the support of the Chandler Chamber of Commerce. &nbsp\;Our mission of this group is to develop trustworthy relationships in the&nbsp\;S. Chandler &nbsp\;community while promoting ethical business and returning to the basics of doing business on a handshake.&nbsp\;</span></p>\n&nbsp\;<br />\n&nbsp\;</div>\n
LOCATION:ZOOM Please contact the Chamber for meeting IDs.
UID:e.1561.34041
SEQUENCE:3
DTSTAMP:20260424T211309Z
URL:https://business.chandlerchamber.com/events/details/wednesday-morning-leads-group-chandler-chamber-07-29-2020-34041
END:VEVENT

END:VCALENDAR
