BEGIN:VCALENDAR
VERSION:2.0
PRODID:-//ChamberMaster//Event Calendar 2.0//EN
METHOD:PUBLISH
X-PUBLISHED-TTL:P3D
REFRESH-INTERVAL:P3D
CALSCALE:GREGORIAN
BEGIN:VEVENT
DTSTART:20200805T143000Z
DTEND:20200805T153000Z
X-MICROSOFT-CDO-ALLDAYEVENT:FALSE
SUMMARY:Wednesday Morning Leads Group Chandler Chamber
DESCRIPTION:
X-ALT-DESC;FMTTYPE=text/html:<div align="left" style="color: rgb(68\, 68\, 68)\; line-height: 18px\; font-family: Helvetica Neue\, Arial\, sans-serif\; font-size: 13px\;">\n<p style="margin: 0in 0in 0pt\;">&nbsp\;</p>\n</div>\n
LOCATION:Virtual Meeting Contact the Chamber for more information
UID:e.1561.34042
SEQUENCE:3
DTSTAMP:20260424T230306Z
URL:https://business.chandlerchamber.com/events/details/wednesday-morning-leads-group-chandler-chamber-08-05-2020-34042
END:VEVENT

END:VCALENDAR
