BEGIN:VCALENDAR
VERSION:2.0
PRODID:-//ChamberMaster//Event Calendar 2.0//EN
METHOD:PUBLISH
X-PUBLISHED-TTL:P3D
REFRESH-INTERVAL:P3D
CALSCALE:GREGORIAN
BEGIN:VEVENT
DTSTART;VALUE=DATE:20180406
DTEND;VALUE=DATE:20180409
TRANSP:TRANSPARENT
X-MICROSOFT-CDO-ALLDAYEVENT:TRUE
SUMMARY:WHAM Inaugural Sonoran Desert Plein Air Festival
DESCRIPTION:WHAM Community Arts Center will hold its Inaugural Sonoran Desert Plein Air Festival\, scheduled for the weekend of April 6\, 7\, and 8th at Vistancia Trilogy in Peoria\, Arizona. All artists\, eighteen years and older\, novice\, intermediate or experienced\, are invited to apply for acceptance. Only fifty artists will be accepted through a juried process. Any registered artist attending may exhibit up to three of their paintings created during the event\, in an on-site gallery which will be open to the public to view and purchase on Friday\, Saturday and Sunday. The public is also invited to the artists' reception on Saturday evening and the awards ceremony Sunday at 3:30 p.m. For more information about the festival or to apply for artist's admission\, log on to http://www.wham-art.org/sonoran-pleinair-festival.html. Deadline for applications is March 15\, on a first come\, first served basis.
X-ALT-DESC;FMTTYPE=text/html:WHAM Community Arts Center will hold its Inaugural Sonoran Desert Plein Air Festival\, scheduled for the weekend of April 6\, 7\, and 8th at Vistancia Trilogy in Peoria\, Arizona. All artists\, eighteen years and older\, novice\, intermediate or experienced\, are invited to apply for acceptance. Only fifty artists will be accepted through a juried process. Any registered artist attending may exhibit up to three of their paintings created during the event\, in an on-site gallery which will be open to the public to view and purchase on Friday\, Saturday and Sunday. The public is also invited to the artists&rsquo\; reception on Saturday evening and the awards ceremony Sunday at 3:30 p.m. For more information about the festival or to apply for artist&rsquo\;s admission\, log on to http://www.wham-art.org/sonoran-pleinair-festival.html. Deadline for applications is March 15\, on a first come\, first served basis.
LOCATION:The Mita Club\, Vistancia Trilogy\, Peoria Arizona
UID:e.1561.20958
SEQUENCE:3
DTSTAMP:20260423T194007Z
URL:https://business.chandlerchamber.com/events/details/wham-inaugural-sonoran-desert-plein-air-festival-20958
END:VEVENT

END:VCALENDAR
