BEGIN:VCALENDAR
VERSION:2.0
PRODID:-//ChamberMaster//Event Calendar 2.0//EN
METHOD:PUBLISH
X-PUBLISHED-TTL:P3D
REFRESH-INTERVAL:P3D
CALSCALE:GREGORIAN
BEGIN:VEVENT
DTSTART:20180414T170000Z
DTEND:20180415T020000Z
X-MICROSOFT-CDO-ALLDAYEVENT:FALSE
SUMMARY:WHAM’s 5th Annual Recycle Arts Festival and Fashion Show
DESCRIPTION:"Where Creativity Goes Green". In celebration of Earth Day\, WHAM Art Association is hosting a free family fun event at the WHAM Community Center\, 16560 N Dysart Ave\, Surprise on Saturday\, April 14 from 10 a.m. to 7 p.m. with food\, informational booths\, music and entertainment\, and kids' arts and crafts. There will also be an art exhibit and fashion show where both children and adults may express creativity with recycled materials. Adult entries for the art exhibit will be juried and prizes will be awarded to the winning entries. In the youth categories 5 to 12 and 13 to 17\, ribbons will be given to winners\, along with a "Thank You" gift bag for all children participating. For more information about the event and how you can participate\, log on to http://www.wham-art.org/recycle-arts.html.
X-ALT-DESC;FMTTYPE=text/html:&ldquo\;Where Creativity Goes Green&rdquo\;. In celebration of Earth Day\, WHAM Art Association is hosting a free family fun event at the WHAM Community Center\, 16560 N Dysart Ave\, Surprise on Saturday\, April 14 from 10 a.m. to 7 p.m. with food\, informational booths\, music and entertainment\, and kids&rsquo\; arts and crafts. There will also be an art exhibit and fashion show where both children and adults may express creativity with recycled materials. Adult entries for the art exhibit will be juried and prizes will be awarded to the winning entries. In the youth categories 5 to 12 and 13 to 17\, ribbons will be given to winners\, along with a &ldquo\;Thank You&rdquo\; gift bag for all children participating. For more information about the event and how you can participate\, log on to http://www.wham-art.org/recycle-arts.html.
LOCATION:WHAM Community Center 16560 N Dysart Ave Surprise AZ
UID:e.1561.20952
SEQUENCE:3
DTSTAMP:20260423T194100Z
URL:https://business.chandlerchamber.com/events/details/wham-s-5th-annual-recycle-arts-festival-and-fashion-show-20952
END:VEVENT

END:VCALENDAR
