BEGIN:VCALENDAR
VERSION:2.0
PRODID:-//ChamberMaster//Event Calendar 2.0//EN
METHOD:PUBLISH
X-PUBLISHED-TTL:P3D
REFRESH-INTERVAL:P3D
CALSCALE:GREGORIAN
BEGIN:VEVENT
DTSTART:20200303T190000Z
DTEND:20200303T193000Z
X-MICROSOFT-CDO-ALLDAYEVENT:FALSE
SUMMARY:Where are the Women? Searching for Chandler’s Historic Women
DESCRIPTION:Join us to hear about the quest for the women who helped shape Chandler--from the perspective of an amateur historian. With a bit of inspiration and a lot of perseverance\, what started as obstacles in the search became a larger lesson about why women remain the underwritten characters of history\, where they can be found\, and some ideas for what we can do moving forward.
X-ALT-DESC;FMTTYPE=text/html:Join us to hear about the quest for the women who helped shape Chandler--from the perspective of an amateur historian. With a bit of inspiration and a lot of perseverance\, what started as obstacles in the search became a larger lesson about why women remain the underwritten characters of history\, where they can be found\, and some ideas for what we can do moving forward.
LOCATION:Chandler Museum
UID:e.1561.38891
SEQUENCE:3
DTSTAMP:20260424T163830Z
URL:https://business.chandlerchamber.com/events/details/where-are-the-women-searching-for-chandler-s-historic-women-38891
END:VEVENT

END:VCALENDAR
