BEGIN:VCALENDAR
VERSION:2.0
PRODID:-//ChamberMaster//Event Calendar 2.0//EN
METHOD:PUBLISH
X-PUBLISHED-TTL:P3D
REFRESH-INTERVAL:P3D
CALSCALE:GREGORIAN
BEGIN:VEVENT
DTSTART:20190322T230000Z
DTEND:20190323T000000Z
X-MICROSOFT-CDO-ALLDAYEVENT:FALSE
SUMMARY:Why They Buy (Sales Seminar)
DESCRIPTION:Have you ever heard that sales is a numbers game and that in order to get more YES's\, you need to get more NO's? - What if to get more YES's\, you actually just need to get more YES's? - If you're ready to turn those NO's into YES's and make more money in less time\, then come and learn with us! - We have the Secrets\, the Science and the Systems to supercharge your sales! PERFECT FOR: Entrepreneurs - Sales Professionals - Business Owners - Direct Sales - Network Marketing - Financial Services - Real Estate - Professional Services - Online Marketing - Personal Relationships - Speakers - Authors - Coaches - Business Consultants - Corporate Sales - Employees - Leadership - Executives - Education
X-ALT-DESC;FMTTYPE=text/html:Have you ever heard that sales is a numbers game and that in order to get more YES&#39\;s\, you need to get more NO&#39\;s? - What if to get more YES&#39\;s\, you actually just need to get more YES&#39\;s? - If you&#39\;re ready to turn those NO&#39\;s into YES&#39\;s and make more money in less time\, then come and learn with us! - We have the Secrets\, the Science and the Systems to supercharge your sales! PERFECT FOR: Entrepreneurs - Sales Professionals - Business Owners - Direct Sales - Network Marketing - Financial Services - Real Estate - Professional Services - Online Marketing - Personal Relationships - Speakers - Authors - Coaches - Business Consultants - Corporate Sales - Employees - Leadership - Executives - Education
LOCATION:The Forum 2301 S Stearman Dr \, Chandler\, AZ 85286
UID:e.1561.36634
SEQUENCE:3
DTSTAMP:20260423T061200Z
URL:https://business.chandlerchamber.com/events/details/why-they-buy-sales-seminar-36634
END:VEVENT

END:VCALENDAR
