BEGIN:VCALENDAR
VERSION:2.0
PRODID:-//ChamberMaster//Event Calendar 2.0//EN
METHOD:PUBLISH
X-PUBLISHED-TTL:P3D
REFRESH-INTERVAL:P3D
CALSCALE:GREGORIAN
BEGIN:VEVENT
DTSTART:20190709T220000Z
DTEND:20190710T000000Z
X-MICROSOFT-CDO-ALLDAYEVENT:FALSE
SUMMARY:WIL Committee Meeting
DESCRIPTION:Women in Leadership Committee Meeting
X-ALT-DESC;FMTTYPE=text/html:Women in Leadership Committee Meeting
LOCATION:Chandler Chamber of Commerce 25 S Arizona Place Suite 201 Chandler\, AZ 85225
UID:e.1561.36739
SEQUENCE:3
DTSTAMP:20260422T230546Z
URL:https://business.chandlerchamber.com/events/details/wil-committee-meeting-36739
END:VEVENT

END:VCALENDAR
