BEGIN:VCALENDAR
VERSION:2.0
PRODID:-//ChamberMaster//Event Calendar 2.0//EN
METHOD:PUBLISH
X-PUBLISHED-TTL:P3D
REFRESH-INTERVAL:P3D
CALSCALE:GREGORIAN
BEGIN:VEVENT
DTSTART:20200505T230000Z
DTEND:20200506T000000Z
X-MICROSOFT-CDO-ALLDAYEVENT:FALSE
SUMMARY:Women in Leadership Committee Meeting-VIRTUAL
DESCRIPTION:Virtual Women in Leadership Committee Meeting. For information\, please contact mia@chandlerchamber.com
X-ALT-DESC;FMTTYPE=text/html:Virtual Women in Leadership Committee Meeting. For information\, please contact mia@chandlerchamber.com
LOCATION:Chandler Chamber of Commerce 25 S Arizona Place Suite 201 Chandler\, AZ 85225
UID:e.1561.38100
SEQUENCE:3
DTSTAMP:20260424T163726Z
URL:https://business.chandlerchamber.com/events/details/women-in-leadership-committee-meeting-virtual-05-05-2020-38100
END:VEVENT

END:VCALENDAR
