BEGIN:VCALENDAR
VERSION:2.0
PRODID:-//ChamberMaster//Event Calendar 2.0//EN
METHOD:PUBLISH
X-PUBLISHED-TTL:P3D
REFRESH-INTERVAL:P3D
CALSCALE:GREGORIAN
BEGIN:VEVENT
DTSTART:20200407T230000Z
DTEND:20200408T000000Z
X-MICROSOFT-CDO-ALLDAYEVENT:FALSE
SUMMARY:Women in Leadership Committee Meeting-VIRTUAL
DESCRIPTION:Women in Leadership Committee Meeting \n\nFor information on attending the virtual meeting\, please contact mia@chandlerchamber.com
X-ALT-DESC;FMTTYPE=text/html:Women in Leadership Committee Meeting&nbsp\;<br />\nFor information on attending the virtual meeting\, please contact mia@chandlerchamber.com
LOCATION:VIRTUAL MEETING For information to join the virtual meeting\, please contact mia@chandlerchamber.com
UID:e.1561.38099
SEQUENCE:3
DTSTAMP:20260424T152436Z
URL:https://business.chandlerchamber.com/events/details/women-in-leadership-committee-meeting-virtual-38099
END:VEVENT

END:VCALENDAR
