BEGIN:VCALENDAR
VERSION:2.0
PRODID:-//ChamberMaster//Event Calendar 2.0//EN
METHOD:PUBLISH
X-PUBLISHED-TTL:P3D
REFRESH-INTERVAL:P3D
CALSCALE:GREGORIAN
BEGIN:VEVENT
DTSTART:20190319T183000Z
DTEND:20190319T203000Z
X-MICROSOFT-CDO-ALLDAYEVENT:FALSE
SUMMARY:Women In Leadership Luncheon
DESCRIPTION:Women in Leadership meets on a monthly basis to meet the needs and enhance the development of women on their professional journey.\n\n\n\nMadhu Chadha will be introducing the new  LinkedIn tool\, Sales Navigator. This tool helps to target the right companies/buyers\, understand key insights and company changes\, and engage with personalized outreach. Learn the secrets of making your LinkedIn profile stand out\, and discuss digital strategies  to increase sales\, and Develop a strategic plan for success. \n\n\n\nMadhu is the President and Digital Marketing consultant of WSI-Optimized Web\n\nSolutions. An Internet Marketing company whose mission is to help small and medium\n\nsized businesses use the internet to be come more effective and profitable. The organization is aimed to benefit clients by increasing their Rank in various search engines and accept\n\nqualified leads through WSI search engine strategies. WSI is one of the largest digital\n\nmarketing agencies in the world with over 1\,000 offices in 81 Countries\, with their main\n\noffice being in the Phoenix area.
X-ALT-DESC;FMTTYPE=text/html:<span style="font-size:16px\;"><span style="font-family:arial\;"><span style="color:#000000\;">Women in Leadership meets on a monthly basis to meet the needs and enhance the development of women on their professional journey.</span></span></span><br />\n<br />\n<span style="background-attachment: scroll\; background-clip: border-box\; background-color: transparent\; background-image: none\; background-origin: padding-box\; background-position-x: 0%\; background-position-y: 0%\; background-repeat: repeat\; background-size: auto\; border-bottom-color: rgb(63\, 63\, 63)\; border-bottom-left-radius: 0px\; border-bottom-right-radius: 0px\; border-bottom-style: none\; border-bottom-width: 0px\; border-collapse: separate\; border-image-outset: 0\; border-image-repeat: stretch\; border-image-slice: 100% 1 0\; border-image-source: none\; border-image-width: 1\; border-left-color: rgb(63\, 63\, 63)\; border-left-style: none\; border-left-width: 0px\; border-right-color: rgb(63\, 63\, 63)\; border-right-style: none\; border-right-width: 0px\; border-top-color: rgb(63\, 63\, 63)\; border-top-left-radius: 0px\; border-top-right-radius: 0px\; border-top-style: none\; border-top-width: 0px\; bottom: auto\; box-shadow: none\; box-sizing: content-box\; clear: none\; color: rgb(63\, 63\, 63)\;  direction: ltr\; display: inline\; empty-cells: show\; float: none\; font-family: &amp\;quot\;Helvetica Neue&amp\;quot\;\,Helvetica\,Arial\,sans-serif\; font-size: 14px\; font-size-adjust: none\; font-stretch: 100%\; font-style: normal\; font-variant: normal\; font-weight: 400\; height: auto\; left: auto\; letter-spacing: normal\; line-height: 18.2px\; margin-bottom: 0px\; margin-left: 0px\; margin-right: 0px\; margin-top: 0px\; max-height: none\; max-width: none\; min-height: 0px\; min-width: 0px\; opacity: 1\; orphans: 2\; outline-color: invert\; outline-offset: 0px\; outline-style: none\; outline-width: 0px\; overflow: visible\; padding-bottom: 0px\; padding-left: 0px\; padding-right: 0px\; padding-top: 0px\; position: static\; right: auto\; table-layout: auto\; text-align: left\; text-decoration: none\; text-indent: 0px\; text-justify: auto\; text-overflow: clip\; text-transform: none\; top: auto\; vertical-align: baseline\; visibility: visible\; -webkit-text-stroke-width: 0px\; white-space: normal\; width: auto\; word-break: normal\; word-spacing: 0px\; word-wrap: break-word\; z-index: auto\;"><span style="background-attachment: scroll\; background-clip: border-box\; background-color: transparent\; background-image: none\; background-origin: padding-box\; background-position-x: 0%\; background-position-y: 0%\; background-repeat: repeat\; background-size: auto\; border-bottom-color: rgb(63\, 63\, 63)\; border-bottom-left-radius: 0px\; border-bottom-right-radius: 0px\; border-bottom-style: none\; border-bottom-width: 0px\; border-collapse: separate\; border-image-outset: 0\; border-image-repeat: stretch\; border-image-slice: 100% 1 0\; border-image-source: none\; border-image-width: 1\; border-left-color: rgb(63\, 63\, 63)\; border-left-style: none\; border-left-width: 0px\; border-right-color: rgb(63\, 63\, 63)\; border-right-style: none\; border-right-width: 0px\; border-top-color: rgb(63\, 63\, 63)\; border-top-left-radius: 0px\; border-top-right-radius: 0px\; border-top-style: none\; border-top-width: 0px\; bottom: auto\; box-shadow: none\; box-sizing: content-box\; clear: none\; color: rgb(63\, 63\, 63)\;  direction: ltr\; display: inline\; empty-cells: show\; float: none\; font-family: arial\; font-size: 14px\; font-size-adjust: none\; font-stretch: 100%\; font-style: normal\; font-variant: normal\; font-weight: 400\; height: auto\; left: auto\; letter-spacing: normal\; line-height: 18.2px\; margin-bottom: 0px\; margin-left: 0px\; margin-right: 0px\; margin-top: 0px\; max-height: none\; max-width: none\; min-height: 0px\; min-width: 0px\; opacity: 1\; outline-color: invert\; outline-offset: 0px\; outline-style: none\; outline-width: 0px\; overflow: visible\; padding-bottom: 0px\; padding-left: 0px\; padding-right: 0px\; padding-top: 0px\; position: static\; right: auto\; table-layout: auto\; text-align: left\; text-decoration: none\; text-indent: 0px\; text-justify: auto\; text-overflow: clip\; text-transform: none\; top: auto\; vertical-align: baseline\; visibility: visible\; white-space: normal\; width: auto\; word-break: normal\; word-spacing: 0px\; word-wrap: break-word\; z-index: auto\;"><span style="background-attachment: scroll\; background-clip: border-box\; background-color: transparent\; background-image: none\; background-origin: padding-box\; background-position-x: 0%\; background-position-y: 0%\; background-repeat: repeat\; background-size: auto\; border-bottom-color: rgb(63\, 63\, 63)\; border-bottom-left-radius: 0px\; border-bottom-right-radius: 0px\; border-bottom-style: none\; border-bottom-width: 0px\; border-collapse: separate\; border-image-outset: 0\; border-image-repeat: stretch\; border-image-slice: 100% 1 0\; border-image-source: none\; border-image-width: 1\; border-left-color: rgb(63\, 63\, 63)\; border-left-style: none\; border-left-width: 0px\; border-right-color: rgb(63\, 63\, 63)\; border-right-style: none\; border-right-width: 0px\; border-top-color: rgb(63\, 63\, 63)\; border-top-left-radius: 0px\; border-top-right-radius: 0px\; border-top-style: none\; border-top-width: 0px\; bottom: auto\; box-shadow: none\; box-sizing: content-box\; clear: none\; color: rgb(63\, 63\, 63)\;  direction: ltr\; display: inline\; empty-cells: show\; float: none\; font-family: arial\; font-size: 16px\; font-size-adjust: none\; font-stretch: 100%\; font-style: normal\; font-variant: normal\; font-weight: 400\; height: auto\; left: auto\; letter-spacing: normal\; line-height: 20.8px\; margin-bottom: 0px\; margin-left: 0px\; margin-right: 0px\; margin-top: 0px\; max-height: none\; max-width: none\; min-height: 0px\; min-width: 0px\; opacity: 1\; outline-color: invert\; outline-offset: 0px\; outline-style: none\; outline-width: 0px\; overflow: visible\; padding-bottom: 0px\; padding-left: 0px\; padding-right: 0px\; padding-top: 0px\; position: static\; right: auto\; table-layout: auto\; text-align: left\; text-decoration: none\; text-indent: 0px\; text-justify: auto\; text-overflow: clip\; text-transform: none\; top: auto\; vertical-align: baseline\; visibility: visible\; white-space: normal\; width: auto\; word-break: normal\; word-spacing: 0px\; word-wrap: break-word\; z-index: auto\;"><span style="background-attachment: scroll\; background-clip: border-box\; background-color: transparent\; background-image: none\; background-origin: padding-box\; background-position-x: 0%\; background-position-y: 0%\; background-repeat: repeat\; background-size: auto\; border-bottom-color: rgb(63\, 63\, 63)\; border-bottom-left-radius: 0px\; border-bottom-right-radius: 0px\; border-bottom-style: none\; border-bottom-width: 0px\; border-collapse: separate\; border-image-outset: 0\; border-image-repeat: stretch\; border-image-slice: 100% 1 0\; border-image-source: none\; border-image-width: 1\; border-left-color: rgb(63\, 63\, 63)\; border-left-style: none\; border-left-width: 0px\; border-right-color: rgb(63\, 63\, 63)\; border-right-style: none\; border-right-width: 0px\; border-top-color: rgb(63\, 63\, 63)\; border-top-left-radius: 0px\; border-top-right-radius: 0px\; border-top-style: none\; border-top-width: 0px\; bottom: auto\; box-shadow: none\; box-sizing: content-box\; clear: none\; color: rgb(63\, 63\, 63)\;  direction: ltr\; display: inline\; empty-cells: show\; float: none\; font-family: arial\; font-size: 16px\; font-size-adjust: none\; font-stretch: 100%\; font-style: normal\; font-variant: normal\; font-weight: 400\; height: auto\; left: auto\; letter-spacing: normal\; line-height: 20.8px\; margin-bottom: 0px\; margin-left: 0px\; margin-right: 0px\; margin-top: 0px\; max-height: none\; max-width: none\; min-height: 0px\; min-width: 0px\; opacity: 1\; outline-color: invert\; outline-offset: 0px\; outline-style: none\; outline-width: 0px\; overflow: visible\; padding-bottom: 0px\; padding-left: 0px\; padding-right: 0px\; padding-top: 0px\; position: static\; right: auto\; table-layout: auto\; text-align: left\; text-decoration: none\; text-indent: 0px\; text-justify: auto\; text-overflow: clip\; text-transform: none\; top: auto\; vertical-align: baseline\; visibility: visible\; white-space: normal\; width: auto\; word-break: normal\; word-spacing: 0px\; word-wrap: break-word\; z-index: auto\;"><span style="background-attachment: scroll\; background-clip: border-box\; background-color: transparent\; background-image: none\; background-origin: padding-box\; background-position-x: 0%\; background-position-y: 0%\; background-repeat: repeat\; background-size: auto\; border-bottom-color: rgb(63\, 63\, 63)\; border-bottom-left-radius: 0px\; border-bottom-right-radius: 0px\; border-bottom-style: none\; border-bottom-width: 0px\; border-collapse: separate\; border-image-outset: 0\; border-image-repeat: stretch\; border-image-slice: 100% 1 0\; border-image-source: none\; border-image-width: 1\; border-left-color: rgb(63\, 63\, 63)\; border-left-style: none\; border-left-width: 0px\; border-right-color: rgb(63\, 63\, 63)\; border-right-style: none\; border-right-width: 0px\; border-top-color: rgb(63\, 63\, 63)\; border-top-left-radius: 0px\; border-top-right-radius: 0px\; border-top-style: none\; border-top-width: 0px\; bottom: auto\; box-shadow: none\; box-sizing: content-box\; clear: none\; color: rgb(63\, 63\, 63)\;  direction: ltr\; display: inline\; empty-cells: show\; float: none\; font-family: arial\; font-size: 16px\; font-size-adjust: none\; font-stretch: 100%\; font-style: normal\; font-variant: normal\; font-weight: 400\; height: auto\; left: auto\; letter-spacing: normal\; line-height: 20.8px\; margin-bottom: 0px\; margin-left: 0px\; margin-right: 0px\; margin-top: 0px\; max-height: none\; max-width: none\; min-height: 0px\; min-width: 0px\; opacity: 1\; outline-color: invert\; outline-offset: 0px\; outline-style: none\; outline-width: 0px\; overflow: visible\; padding-bottom: 0px\; padding-left: 0px\; padding-right: 0px\; padding-top: 0px\; position: static\; right: auto\; table-layout: auto\; text-align: left\; text-decoration: none\; text-indent: 0px\; text-justify: auto\; text-overflow: clip\; text-transform: none\; top: auto\; vertical-align: baseline\; visibility: visible\; white-space: normal\; width: auto\; word-break: normal\; word-spacing: 0px\; word-wrap: break-word\; z-index: auto\;"><span style="background-attachment: scroll\; background-clip: border-box\; background-color: transparent\; background-image: none\; background-origin: padding-box\; background-position-x: 0%\; background-position-y: 0%\; background-repeat: repeat\; background-size: auto\; border-bottom-color: rgb(63\, 63\, 63)\; border-bottom-left-radius: 0px\; border-bottom-right-radius: 0px\; border-bottom-style: none\; border-bottom-width: 0px\; border-collapse: separate\; border-image-outset: 0\; border-image-repeat: stretch\; border-image-slice: 100% 1 0\; border-image-source: none\; border-image-width: 1\; border-left-color: rgb(63\, 63\, 63)\; border-left-style: none\; border-left-width: 0px\; border-right-color: rgb(63\, 63\, 63)\; border-right-style: none\; border-right-width: 0px\; border-top-color: rgb(63\, 63\, 63)\; border-top-left-radius: 0px\; border-top-right-radius: 0px\; border-top-style: none\; border-top-width: 0px\; bottom: auto\; box-shadow: none\; box-sizing: content-box\; clear: none\; color: rgb(63\, 63\, 63)\;  direction: ltr\; display: inline\; empty-cells: show\; float: none\; font-family: arial\; font-size: 16px\; font-size-adjust: none\; font-stretch: 100%\; font-style: normal\; font-variant: normal\; font-weight: 400\; height: auto\; left: auto\; letter-spacing: normal\; line-height: 20.8px\; margin-bottom: 0px\; margin-left: 0px\; margin-right: 0px\; margin-top: 0px\; max-height: none\; max-width: none\; min-height: 0px\; min-width: 0px\; opacity: 1\; outline-color: invert\; outline-offset: 0px\; outline-style: none\; outline-width: 0px\; overflow: visible\; padding-bottom: 0px\; padding-left: 0px\; padding-right: 0px\; padding-top: 0px\; position: static\; right: auto\; table-layout: auto\; text-align: left\; text-decoration: none\; text-indent: 0px\; text-justify: auto\; text-overflow: clip\; text-transform: none\; top: auto\; vertical-align: baseline\; visibility: visible\; white-space: normal\; width: auto\; word-break: normal\; word-spacing: 0px\; word-wrap: break-word\; z-index: auto\;">Madhu Chadha will be introducing the new&nbsp\; LinkedIn tool\, Sales </span></span></span></span></span></span><span style="background-attachment: scroll\; background-clip: border-box\; background-color: transparent\; background-image: none\; background-origin: padding-box\; background-position-x: 0%\; background-position-y: 0%\; background-repeat: repeat\; background-size: auto\; border-bottom-color: rgb(63\, 63\, 63)\; border-bottom-left-radius: 0px\; border-bottom-right-radius: 0px\; border-bottom-style: none\; border-bottom-width: 0px\; border-collapse: separate\; border-image-outset: 0\; border-image-repeat: stretch\; border-image-slice: 100% 1 0\; border-image-source: none\; border-image-width: 1\; border-left-color: rgb(63\, 63\, 63)\; border-left-style: none\; border-left-width: 0px\; border-right-color: rgb(63\, 63\, 63)\; border-right-style: none\; border-right-width: 0px\; border-top-color: rgb(63\, 63\, 63)\; border-top-left-radius: 0px\; border-top-right-radius: 0px\; border-top-style: none\; border-top-width: 0px\; bottom: auto\; box-shadow: none\; box-sizing: content-box\; clear: none\; color: rgb(63\, 63\, 63)\;  direction: ltr\; display: inline\; empty-cells: show\; float: none\; font-family: &amp\;quot\;Helvetica Neue&amp\;quot\;\,Helvetica\,Arial\,sans-serif\; font-size: 14px\; font-size-adjust: none\; font-stretch: 100%\; font-style: normal\; font-variant: normal\; font-weight: 400\; height: auto\; left: auto\; letter-spacing: normal\; line-height: 18.2px\; margin-bottom: 0px\; margin-left: 0px\; margin-right: 0px\; margin-top: 0px\; max-height: none\; max-width: none\; min-height: 0px\; min-width: 0px\; opacity: 1\; orphans: 2\; outline-color: invert\; outline-offset: 0px\; outline-style: none\; outline-width: 0px\; overflow: visible\; padding-bottom: 0px\; padding-left: 0px\; padding-right: 0px\; padding-top: 0px\; position: static\; right: auto\; table-layout: auto\; text-align: left\; text-decoration: none\; text-indent: 0px\; text-justify: auto\; text-overflow: clip\; text-transform: none\; top: auto\; vertical-align: baseline\; visibility: visible\; -webkit-text-stroke-width: 0px\; white-space: normal\; width: auto\; word-break: normal\; word-spacing: 0px\; word-wrap: break-word\; z-index: auto\;"><span style="background-attachment: scroll\; background-clip: border-box\; background-color: transparent\; background-image: none\; background-origin: padding-box\; background-position-x: 0%\; background-position-y: 0%\; background-repeat: repeat\; background-size: auto\; border-bottom-color: rgb(63\, 63\, 63)\; border-bottom-left-radius: 0px\; border-bottom-right-radius: 0px\; border-bottom-style: none\; border-bottom-width: 0px\; border-collapse: separate\; border-image-outset: 0\; border-image-repeat: stretch\; border-image-slice: 100% 1 0\; border-image-source: none\; border-image-width: 1\; border-left-color: rgb(63\, 63\, 63)\; border-left-style: none\; border-left-width: 0px\; border-right-color: rgb(63\, 63\, 63)\; border-right-style: none\; border-right-width: 0px\; border-top-color: rgb(63\, 63\, 63)\; border-top-left-radius: 0px\; border-top-right-radius: 0px\; border-top-style: none\; border-top-width: 0px\; bottom: auto\; box-shadow: none\; box-sizing: content-box\; clear: none\; color: rgb(63\, 63\, 63)\;  direction: ltr\; display: inline\; empty-cells: show\; float: none\; font-family: &amp\;quot\;Helvetica Neue&amp\;quot\;\,Helvetica\,Arial\,sans-serif\; font-size: 14px\; font-size-adjust: none\; font-stretch: 100%\; font-style: normal\; font-variant: normal\; font-weight: 400\; height: auto\; left: auto\; letter-spacing: normal\; line-height: 18.2px\; margin-bottom: 0px\; margin-left: 0px\; margin-right: 0px\; margin-top: 0px\; max-height: none\; max-width: none\; min-height: 0px\; min-width: 0px\; opacity: 1\; outline-color: invert\; outline-offset: 0px\; outline-style: none\; outline-width: 0px\; overflow: visible\; padding-bottom: 0px\; padding-left: 0px\; padding-right: 0px\; padding-top: 0px\; position: static\; right: auto\; table-layout: auto\; text-align: left\; text-decoration: none\; text-indent: 0px\; text-justify: auto\; text-overflow: clip\; text-transform: none\; top: auto\; vertical-align: baseline\; visibility: visible\; white-space: normal\; width: auto\; word-break: normal\; word-spacing: 0px\; word-wrap: break-word\; z-index: auto\;"><span style="background-attachment: scroll\; background-clip: border-box\; background-color: transparent\; background-image: none\; background-origin: padding-box\; background-position-x: 0%\; background-position-y: 0%\; background-repeat: repeat\; background-size: auto\; border-bottom-color: rgb(63\, 63\, 63)\; border-bottom-left-radius: 0px\; border-bottom-right-radius: 0px\; border-bottom-style: none\; border-bottom-width: 0px\; border-collapse: separate\; border-image-outset: 0\; border-image-repeat: stretch\; border-image-slice: 100% 1 0\; border-image-source: none\; border-image-width: 1\; border-left-color: rgb(63\, 63\, 63)\; border-left-style: none\; border-left-width: 0px\; border-right-color: rgb(63\, 63\, 63)\; border-right-style: none\; border-right-width: 0px\; border-top-color: rgb(63\, 63\, 63)\; border-top-left-radius: 0px\; border-top-right-radius: 0px\; border-top-style: none\; border-top-width: 0px\; bottom: auto\; box-shadow: none\; box-sizing: content-box\; clear: none\; color: rgb(63\, 63\, 63)\;  direction: ltr\; display: inline\; empty-cells: show\; float: none\; font-family: arial\; font-size: 14px\; font-size-adjust: none\; font-stretch: 100%\; font-style: normal\; font-variant: normal\; font-weight: 400\; height: auto\; left: auto\; letter-spacing: normal\; line-height: 18.2px\; margin-bottom: 0px\; margin-left: 0px\; margin-right: 0px\; margin-top: 0px\; max-height: none\; max-width: none\; min-height: 0px\; min-width: 0px\; opacity: 1\; outline-color: invert\; outline-offset: 0px\; outline-style: none\; outline-width: 0px\; overflow: visible\; padding-bottom: 0px\; padding-left: 0px\; padding-right: 0px\; padding-top: 0px\; position: static\; right: auto\; table-layout: auto\; text-align: left\; text-decoration: none\; text-indent: 0px\; text-justify: auto\; text-overflow: clip\; text-transform: none\; top: auto\; vertical-align: baseline\; visibility: visible\; white-space: normal\; width: auto\; word-break: normal\; word-spacing: 0px\; word-wrap: break-word\; z-index: auto\;"><span style="background-attachment: scroll\; background-clip: border-box\; background-color: transparent\; background-image: none\; background-origin: padding-box\; background-position-x: 0%\; background-position-y: 0%\; background-repeat: repeat\; background-size: auto\; border-bottom-color: rgb(63\, 63\, 63)\; border-bottom-left-radius: 0px\; border-bottom-right-radius: 0px\; border-bottom-style: none\; border-bottom-width: 0px\; border-collapse: separate\; border-image-outset: 0\; border-image-repeat: stretch\; border-image-slice: 100% 1 0\; border-image-source: none\; border-image-width: 1\; border-left-color: rgb(63\, 63\, 63)\; border-left-style: none\; border-left-width: 0px\; border-right-color: rgb(63\, 63\, 63)\; border-right-style: none\; border-right-width: 0px\; border-top-color: rgb(63\, 63\, 63)\; border-top-left-radius: 0px\; border-top-right-radius: 0px\; border-top-style: none\; border-top-width: 0px\; bottom: auto\; box-shadow: none\; box-sizing: content-box\; clear: none\; color: rgb(63\, 63\, 63)\;  direction: ltr\; display: inline\; empty-cells: show\; float: none\; font-family: arial\; font-size: 16px\; font-size-adjust: none\; font-stretch: 100%\; font-style: normal\; font-variant: normal\; font-weight: 400\; height: auto\; left: auto\; letter-spacing: normal\; line-height: 20.8px\; margin-bottom: 0px\; margin-left: 0px\; margin-right: 0px\; margin-top: 0px\; max-height: none\; max-width: none\; min-height: 0px\; min-width: 0px\; opacity: 1\; outline-color: invert\; outline-offset: 0px\; outline-style: none\; outline-width: 0px\; overflow: visible\; padding-bottom: 0px\; padding-left: 0px\; padding-right: 0px\; padding-top: 0px\; position: static\; right: auto\; table-layout: auto\; text-align: left\; text-decoration: none\; text-indent: 0px\; text-justify: auto\; text-overflow: clip\; text-transform: none\; top: auto\; vertical-align: baseline\; visibility: visible\; white-space: normal\; width: auto\; word-break: normal\; word-spacing: 0px\; word-wrap: break-word\; z-index: auto\;">Navigator. This tool helps to target the right companies/buyers\, understand key insights and company changes\, and engage with personalized outreach. Learn the secrets of making your LinkedIn profile stand out\, and discuss digital strategies&nbsp\; to increase sales\, and Develop a strategic plan for success. </span></span></span></span><br />\n<br />\n<span style="language:en-US\;"><span style="font-family:arial\;"><span style="font-size:12.0pt\;">Madhu is the President and Digital Marketing consultant of WSI-Optimized Web<br />\nSolutions. An Internet Marketing company whose mission is to help small and medium<br />\nsized businesses use the internet to be come more effective and profitable. </span></span></span><span style="letter-spacing:-.25pt\;language:en-US\;"><span style="font-family:arial\;"><span style="font-size:12.0pt\;">The organization</span></span></span><span style="language:en-US\;"><span style="font-family:arial\;"><span style="font-size:12.0pt\;"> is aimed to benefit clients by increasing their Rank in various search engines and accept<br />\nqualified leads through WSI search engine strategies. WSI is one of the largest digital<br />\nmarketing agencies in the world with over 1\,000 offices in 81 Countries\, with their main<br />\noffice being in the Phoenix area.</span></span></span><br />\n&nbsp\;
LOCATION:SoHo 63 63 E Boston Chandler\, AZ 85225 SE corner Boston St and Arizona
UID:e.1561.11575
SEQUENCE:3
DTSTAMP:20260423T045846Z
URL:https://business.chandlerchamber.com/events/details/women-in-leadership-luncheon-03-19-2019-11575
END:VEVENT

END:VCALENDAR
