BEGIN:VCALENDAR
VERSION:2.0
PRODID:-//ChamberMaster//Event Calendar 2.0//EN
METHOD:PUBLISH
X-PUBLISHED-TTL:P3D
REFRESH-INTERVAL:P3D
CALSCALE:GREGORIAN
BEGIN:VEVENT
DTSTART:20190416T183000Z
DTEND:20190416T203000Z
X-MICROSOFT-CDO-ALLDAYEVENT:FALSE
SUMMARY:Women In Leadership Luncheon
DESCRIPTION:Women in Leadership meets on a monthly basis to meet the needs and enhance the development of women on their professional journey.\n\n\n\nIt doesn't matter if you are interviewing for your dream job\, or just hoping to make a great impression in your existing workplace one thing is certain   the way you dress can have a huge impact!\n\nJoin us for a power program of tips\, tricks and fashion to further your career! Our team of experts includes Crystal Blackwell\, Certified Business/Life Coach talking about the importance of your mindset and personal branding\, Denise McCreery\, small business owner\, and performer dishes on how to portray positive communication and body language to engage effectively.  Lisa O'Hearn\, Professional Stylist & Image Consultant\, will give savvy tips for putting your best foot forward. \n\n\n\nWe'll top it all off with a Fashion Show featuring current trends and styles from Macy's cabi clothing and Judy Wear Boutique.  Ray from OneTen Entertainment will be spinning tunes!
X-ALT-DESC;FMTTYPE=text/html:<span style="font-size:16px\;"><span style="font-family:arial\;"><span style="color:#000000\;">Women in Leadership meets on a monthly basis to meet the needs and enhance the development of women on their professional journey.</span></span><br />\n<br />\nIt doesn&rsquo\;t matter if you are interviewing for your dream job\, or just hoping to make a great impression in your existing workplace one thing is certain &ndash\; the way you dress can have a huge impact!<br />\nJoin us for a power program of tips\, tricks and fashion to further your career! Our team of experts includes Crystal Blackwell\, Certified Business/Life Coach talking about the importance of your mindset and personal branding\, Denise McCreery\, small business owner\, and performer dishes on how to portray positive communication and body language to engage effectively. &nbsp\;Lisa O&#39\;Hearn\, Professional Stylist &amp\; Image Consultant\, will give savvy tips for putting your best foot forward.&nbsp\;<br />\n<br />\nWe&#39\;ll top it all off with a Fashion Show featuring current trends and styles from Macy&#39\;s cabi clothing and Judy Wear Boutique.&nbsp\; Ray from OneTen Entertainment will be spinning tunes!</span><br />\n&nbsp\;
LOCATION:SoHo 63 63 E Boston Chandler\, AZ 85225 SE corner Boston St and Arizona
UID:e.1561.11576
SEQUENCE:3
DTSTAMP:20260423T033451Z
URL:https://business.chandlerchamber.com/events/details/women-in-leadership-luncheon-04-16-2019-11576
END:VEVENT

END:VCALENDAR
