BEGIN:VCALENDAR
VERSION:2.0
PRODID:-//ChamberMaster//Event Calendar 2.0//EN
METHOD:PUBLISH
X-PUBLISHED-TTL:P3D
REFRESH-INTERVAL:P3D
CALSCALE:GREGORIAN
BEGIN:VEVENT
DTSTART:20190618T183000Z
DTEND:20190618T203000Z
X-MICROSOFT-CDO-ALLDAYEVENT:FALSE
SUMMARY:Women In Leadership Luncheon
DESCRIPTION:Women in Leadership meets on a monthly basis to meet the needs and enhance the development of women on their professional journey.\n\n\n\nJoin us for the Women in Leadership Luncheon on June 18th when we welcome Chandler Lifestyle Magazine's 2019 Men of Chandler.  With drive and dedication\, each of these gentlemen help shape Chandler.  Come hear their stories and celebrate their successes.
X-ALT-DESC;FMTTYPE=text/html:<span style="font-size:16px\;"><span style="font-family:arial\;"><span style="color:#000000\;">Women in Leadership meets on a monthly basis to meet the needs and enhance the development of women on their professional journey.</span></span></span><br />\n<br />\n<span style="font-size:16px\;"><span style="color: rgb(51\, 51\, 51)\; font-family: Arial\, Verdana\, Helvetica\, sans-serif\; text-align: center\; background-color: rgb(255\, 255\, 255)\;">Join us for the Women in Leadership Luncheon on June 18th when we welcome Chandler Lifestyle Magazine&#39\;s 2019 Men of Chandler.&nbsp\; With drive and dedication\, each of these gentlemen help shape Chandler.&nbsp\; Come hear their stories and celebrate their successes.</span></span>
LOCATION:SoHo 63 63 E Boston Chandler\, AZ 85225 SE corner Boston St and Arizona
UID:e.1561.11578
SEQUENCE:3
DTSTAMP:20260423T004150Z
URL:https://business.chandlerchamber.com/events/details/women-in-leadership-luncheon-06-18-2019-11578
END:VEVENT

END:VCALENDAR
