BEGIN:VCALENDAR
VERSION:2.0
PRODID:-//ChamberMaster//Event Calendar 2.0//EN
METHOD:PUBLISH
X-PUBLISHED-TTL:P3D
REFRESH-INTERVAL:P3D
CALSCALE:GREGORIAN
BEGIN:VEVENT
DTSTART:20210720T183000Z
DTEND:20210720T203000Z
X-MICROSOFT-CDO-ALLDAYEVENT:FALSE
SUMMARY:Women In Leadership Luncheon
DESCRIPTION:Women in Leadership meets on a monthly basis to meet the needs and enhance the development of women on their professional journey.\n\n\n\nRaihana Nadem is an inspiring woman who took her life into her own hands and became a wildly successful entrepreneur. Now the well-known founder of Bella Vita Med-Spa and Filter Beauty\, Raihana escaped from Afghanistan to the United States not for love\, but for freedom. She fought for the freedom to choose how she wanted to live\, to choose who she wanted to share her life with and to choose a career path without fear or pressure. You do not want to miss hearing Raihana's amazing story!
X-ALT-DESC;FMTTYPE=text/html:<span style="font-size:16px\;"><span style="font-family:arial\;"><span style="color:#000000\;">Women in Leadership meets on a monthly basis to meet the needs and enhance the development of women on their professional journey.</span></span></span><br />\n<br />\n<span style="font-size:16px\;"><span style="font-family:arial\;">Raihana Nadem is an inspiring woman who took her life into her own hands and became a wildly successful entrepreneur. Now the well-known founder of Bella Vita Med-Spa and Filter Beauty\, Raihana escaped from Afghanistan to the United States not for love\, but for freedom. She fought for the freedom to choose how she wanted to live\, to choose who she wanted to share her life with and to choose a career path without fear or pressure. You do not want to miss hearing Raihana&rsquo\;s amazing story!</span></span><br />\n&nbsp\;
LOCATION:SoHo 63 63 E Boston Chandler\, AZ 85225 SE corner Boston St and Arizona
UID:e.1561.36338
SEQUENCE:3
DTSTAMP:20260423T113508Z
URL:https://business.chandlerchamber.com/events/details/women-in-leadership-luncheon-07-20-2021-36338
END:VEVENT

END:VCALENDAR
