BEGIN:VCALENDAR
VERSION:2.0
PRODID:-//ChamberMaster//Event Calendar 2.0//EN
METHOD:PUBLISH
X-PUBLISHED-TTL:P3D
REFRESH-INTERVAL:P3D
CALSCALE:GREGORIAN
BEGIN:VEVENT
DTSTART:20191015T183000Z
DTEND:20191015T203000Z
X-MICROSOFT-CDO-ALLDAYEVENT:FALSE
SUMMARY:Women In Leadership Luncheon
DESCRIPTION:Women in Leadership meets on a monthly basis to meet the needs and enhance the development of women on their professional journey.\nIntergenerational Mentoring\n\nHave you tried mentoring the traditional way\, and found something missing?  Is your mentoring relationship "one way" do you always impart wisdom or act as the senior in a mentoring relationship?  Perhaps you are newer in your career and you "soak up" the advice of more tenured business contacts.   \n\nIncreasingly\, intergenerational mentoring is encouraging give and take relationships\, where we learn from each other.  The traditional mentor-prot g  relationship is evolving into a two way partnership that provides mutual benefits\, infusing energy into your work and strengthening work relationships.  \n\nJoin October's session to learn a new way to view this important relationship in the workplace.
X-ALT-DESC;FMTTYPE=text/html:<span style="font-size:14px\;"><span style="font-family:arial\;"><span style="color:#000000\;">Women in Leadership meets on a monthly basis to meet the needs and enhance the development of women on their professional journey.</span></span></span>\n<p><span style="font-size:14px\;"><span toyota="" type="">Intergenerational Mentoring</span></span></p>\n\n<p><span style="font-size:14px\;"><span toyota="" type="">Have you tried mentoring the traditional way\, and found something missing?&nbsp\; Is your mentoring relationship &ldquo\;one way&rdquo\;&hellip\;do you always impart wisdom or act as the senior in a mentoring relationship?&nbsp\; Perhaps you are newer in your career and you &ldquo\;soak up&rdquo\; the advice of more tenured business contacts.&nbsp\; &nbsp\;</span></span></p>\n\n<p><span style="font-size:14px\;"><span toyota="" type="">Increasingly\, intergenerational mentoring is encouraging give and take relationships\, where we learn from each other.&nbsp\; The traditional mentor-prot&eacute\;g&eacute\; relationship is evolving into a two way partnership that provides mutual benefits\, infusing energy into your work and strengthening work relationships.&nbsp\; </span></span></p>\n\n<p><span style="font-size:14px\;"><span toyota="" type="">Join October&rsquo\;s session to learn a new way to view this important relationship in the workplace. </span></span></p>\n
LOCATION:SoHo 63 63 E Boston Chandler\, AZ 85225 SE corner Boston St and Arizona
UID:e.1561.11582
SEQUENCE:3
DTSTAMP:20260422T202920Z
URL:https://business.chandlerchamber.com/events/details/women-in-leadership-luncheon-10-15-2019-11582
END:VEVENT

END:VCALENDAR
