BEGIN:VCALENDAR
VERSION:2.0
PRODID:-//ChamberMaster//Event Calendar 2.0//EN
METHOD:PUBLISH
X-PUBLISHED-TTL:P3D
REFRESH-INTERVAL:P3D
CALSCALE:GREGORIAN
BEGIN:VEVENT
DTSTART:20231017T183000Z
DTEND:20231017T200000Z
X-MICROSOFT-CDO-ALLDAYEVENT:FALSE
SUMMARY:Women In Leadership Luncheon
DESCRIPTION:From Likes to Leads: Leveraging Video\, Social Media\, and AI For Marketing\n\n\n\nJoin us for a look into the evolving technology for marketing as it is redefining how you promote your business. Learn from our expert panelists who specialize in video\, social media\, and AI marketing as they discuss how to maximize your business marketing strategies to generate more leads. We'll even dive into the future of social media with AI.  \n\n\n\nMeet Our Panelists: \n\n \nMadhu Chadha \n\nDigital Marketing Consultant\n\nWSI   Optimized Web Solutions\n\n \n\nJane Poston \n\nPartner & Producer\n\nJ2 Media\n\n \n\nAshley Richards \n\nFounder and CEO\n\n E Squared Marketing\n\n\n\n\nWomen in Leadership meets on a monthly basis to meet the needs and enhance the development of women on their professional journey.
X-ALT-DESC;FMTTYPE=text/html:<strong><span style="font-size:18px\;">From Likes to Leads: Leveraging Video\, Social Media\, and AI For Marketing</span></strong><br />\n<br />\n<span style="font-size:14px\;">Join us for a look into the evolving technology for marketing as it is redefining how you promote your business. Learn from our expert panelists who specialize in video\, social media\, and AI marketing as they discuss how to maximize your business marketing strategies to generate more leads. We&rsquo\;ll even dive into the future of social media with AI.&nbsp\;&nbsp\;</span><br />\n<br />\n<span style="font-size:16px\;"><span style="font-family:arial\;"><span style="color:#000000\;">Meet Our Panelists:&nbsp\;</span></span></span><br />\n&nbsp\;\n<div style="margin-left: 40px\;"><span style="font-size:16px\;"><strong>Madhu Chadha </strong><br />\nDigital Marketing Consultant<br />\nWSI &ndash\; Optimized Web Solutions<br />\n&nbsp\;<br />\n<strong>Jane Poston </strong><br />\nPartner &amp\; Producer<br />\nJ2 Media<br />\n&nbsp\;<br />\n<strong>Ashley Richards </strong><br />\nFounder and CEO<br />\n&nbsp\;E Squared Marketing</span></div>\n<br />\n<br />\n<span style="font-size:16px\;"><span style="font-family:arial\;"><span style="color:#000000\;">Women in Leadership meets on a monthly basis to meet the needs and enhance the development of women on their professional journey.</span></span></span>
LOCATION:SoHo 63 63 E Boston Chandler\, AZ 85225 SE corner Boston St and Arizona
UID:e.1561.36365
SEQUENCE:3
DTSTAMP:20260423T084852Z
URL:https://business.chandlerchamber.com/events/details/women-in-leadership-luncheon-10-17-2023-36365
END:VEVENT

END:VCALENDAR
