BEGIN:VCALENDAR
VERSION:2.0
PRODID:-//ChamberMaster//Event Calendar 2.0//EN
METHOD:PUBLISH
X-PUBLISHED-TTL:P3D
REFRESH-INTERVAL:P3D
CALSCALE:GREGORIAN
BEGIN:VEVENT
DTSTART:20241210T183000Z
DTEND:20241210T200000Z
X-MICROSOFT-CDO-ALLDAYEVENT:FALSE
SUMMARY:Women In Leadership Luncheon
DESCRIPTION:The Invisible Workload\n\nStudies presented by Harvard Business Review\, HuffPost\, & University of Arizona all come to one conclusion: women do a lot of work that goes unnoticed.\n\nYou'll see it at home\, with meal planning\, appointment scheduling - the works - but that invisible workload's in the office\, too\, as women undertake activities that boost company culture without a direct benefit to their own careers.\n\nAt this month's Women In Leadership luncheon\, hear from Kimberly Smieja and Alison Smith\, life coaches & industry veterans. They'll help you avoid one big holiday burnout & set you on a stronger professional path.
X-ALT-DESC;FMTTYPE=text/html:<p><span style="font-size:18px\;"><span style="color:#000000\;"><span style="font-family:arial\;"><strong>The Invisible Workload</strong></span></span></span></p>\n\n<p><span style="font-size:16px\;"><span style="color:#000000\;"><span style="font-family:arial\;">Studies presented by Harvard Business Review\, HuffPost\, &amp\; University of Arizona all come to one conclusion: women do a lot of work that goes unnoticed.</span></span></span></p>\n\n<p><span style="font-size:16px\;"><span style="color:#000000\;"><span style="font-family:arial\;">You&rsquo\;ll see it at home\, with meal planning\, appointment scheduling - the works - but that invisible workload&rsquo\;s in the office\, too\, as women undertake activities that boost company culture without a direct benefit to their own careers.</span></span></span></p>\n\n<p><span style="font-size:16px\;"><span style="color:#000000\;"><span style="font-family:arial\;">At this month&rsquo\;s Women In Leadership luncheon\, hear from Kimberly Smieja and Alison Smith\,&nbsp\;life coaches &amp\; industry veterans. They&rsquo\;ll help you avoid one big holiday burnout &amp\; set you on a stronger professional path.</span></span></span></p>\n
LOCATION:SoHo 63 63 E Boston Chandler\, AZ 85225
UID:e.1561.36379
SEQUENCE:3
DTSTAMP:20260420T101547Z
URL:https://business.chandlerchamber.com/events/details/women-in-leadership-luncheon-12-17-2024-36379
END:VEVENT

END:VCALENDAR
