BEGIN:VCALENDAR
VERSION:2.0
PRODID:-//ChamberMaster//Event Calendar 2.0//EN
METHOD:PUBLISH
X-PUBLISHED-TTL:P3D
REFRESH-INTERVAL:P3D
CALSCALE:GREGORIAN
BEGIN:VEVENT
DTSTART:20200519T183000Z
DTEND:20200519T200000Z
X-MICROSOFT-CDO-ALLDAYEVENT:FALSE
SUMMARY:Women In Leadership Luncheon-VIRTUAL
DESCRIPTION:Women in Leadership meets on a monthly basis to meet the needs and enhance the development of women on their professional journey.\n\n\n\nThis month we present the 2020 Chandler Lifestyle Magazine's Women of Chandler.  Meet these incredible women who make Chandler a better place to live\, work and raise a family.\n\nPlease click this URL to join. https://us02web.zoom.us/j/82314609641?pwd=azFtMmlGOExKZXFrUjB0REpqdTdlQT09\n\nWebinar ID- 82314609641\n\nPassword: 203498
X-ALT-DESC;FMTTYPE=text/html:<span style="font-size: 16px\;"><span style="font-family: arial\;"><span style="color: rgb(0\, 0\, 0)\;">Women in Leadership meets on a monthly basis to meet the needs and enhance the development of women on their professional journey.</span></span></span><br />\n<br />\n<span style="font-family: arial\; font-size: 16px\; background-color: rgb(255\, 255\, 255)\;">This month we present the 2020 Chandler Lifestyle Magazine&#39\;s Women of Chandler.&nbsp\; Meet these incredible women who make Chandler a better place to live\, work and raise a family.</span><br />\n<span style="font-family:verdana\;">Please click this URL to join. <a href="https://us02web.zoom.us/j/82314609641?pwd=azFtMmlGOExKZXFrUjB0REpqdTdlQT09"><span style="font-size:10.0pt\;">https://us02web.zoom.us/j/82314609641?pwd=azFtMmlGOExKZXFrUjB0REpqdTdlQT09</span></a><br />\n<strong>Webinar ID- 82314609641<br />\nPassword: 203498</strong></span><br />\n&nbsp\;
LOCATION:ZOOM Webinar
UID:e.1561.36324
SEQUENCE:3
DTSTAMP:20260424T163328Z
URL:https://business.chandlerchamber.com/events/details/women-in-leadership-luncheon-virtual-36324
END:VEVENT

END:VCALENDAR
