BEGIN:VCALENDAR
VERSION:2.0
PRODID:-//ChamberMaster//Event Calendar 2.0//EN
METHOD:PUBLISH
X-PUBLISHED-TTL:P3D
REFRESH-INTERVAL:P3D
CALSCALE:GREGORIAN
BEGIN:VEVENT
DTSTART:20200421T183000Z
DTEND:20200421T203000Z
X-MICROSOFT-CDO-ALLDAYEVENT:FALSE
SUMMARY:Women In Leadership Luncheon-VIRTUAL PART TWO
DESCRIPTION:Hello Everyone!\n\nThank you all again for registering for our Women in Leadership event! We hope that you all enjoyed part one with Deborah Ostriecher. Please join us  April 28th at 11:30 for Part two with Crystal Blackwell\, with Crystal Clear Life Coaching.  She will teach us how positive self-talk can increasing your self-confidence and curb negative emotions. Learn tips and tricks for crafting positive self-talk. Can't wait to see all your smiling face there!Meeting information below: \n\n \n\nhttps://us02web.zoom.us/j/98917988940?pwd=cndIcUdma0YzWEZYVnBOZ1dkR0dKZz09\n\nMeeting ID: 989-1798-8940\n\nMeeting Password: 842925
X-ALT-DESC;FMTTYPE=text/html:Hello Everyone!<br />\nThank you all again for registering for our Women in Leadership event! We hope that you all enjoyed part one with Deborah Ostriecher. Please join us&nbsp\; April 28th at 11:30 for Part two with Crystal Blackwell\, with Crystal Clear Life Coaching.&nbsp\; She will teach us how positive self-talk can increasing your self-confidence and curb negative emotions. Learn tips and tricks for crafting positive self-talk. Can&rsquo\;t wait to see all your smiling face there!<strong><span style="background:yellow\;">Meeting information below: </span></strong><br />\n&nbsp\;<br />\n<span style="background:yellow\;"><a href="https://us02web.zoom.us/j/98917988940?pwd=cndIcUdma0YzWEZYVnBOZ1dkR0dKZz09">https://us02web.zoom.us/j/98917988940?pwd=cndIcUdma0YzWEZYVnBOZ1dkR0dKZz09</a></span><br />\n<span style="background:yellow\;">Meeting ID: 989-1798-8940</span><br />\n<span style="background:yellow\;">Meeting Password: 842925</span><br />\n&nbsp\;\n<p class="xmsonormal">&nbsp\;<o:p></o:p></p>\n<br />\n&nbsp\;
LOCATION:
UID:e.1561.36323
SEQUENCE:3
DTSTAMP:20260424T152240Z
URL:https://business.chandlerchamber.com/events/details/women-in-leadership-luncheon-virtual-part-two-36323
END:VEVENT

END:VCALENDAR
