BEGIN:VCALENDAR
VERSION:2.0
PRODID:-//ChamberMaster//Event Calendar 2.0//EN
METHOD:PUBLISH
X-PUBLISHED-TTL:P3D
REFRESH-INTERVAL:P3D
CALSCALE:GREGORIAN
BEGIN:VEVENT
DTSTART:20200616T183000Z
DTEND:20200616T200000Z
X-MICROSOFT-CDO-ALLDAYEVENT:FALSE
SUMMARY:Women In Leadership Virtual Meeting
DESCRIPTION:Women in Leadership meets on a monthly basis to meet the needs and enhance the development of women on their professional journey.\n\nZoom Information\n\nhttps://us02web.zoom.us/j/85257106582?pwd=M3VVS0pXbnB5Wk1nT1ZZTys4UlVYQT09\nWebinar ID- 852 5710 6582\n\nPassword- 652422
X-ALT-DESC;FMTTYPE=text/html:<span style="font-size: 16px\;"><span style="font-family: arial\;"><span style="color: rgb(0\, 0\, 0)\;">Women in Leadership meets on a monthly basis to meet the needs and enhance the development of women on their professional journey.<br />\nZoom Information</span></span></span><br />\n<a href="https://us02web.zoom.us/j/85257106582?pwd=M3VVS0pXbnB5Wk1nT1ZZTys4UlVYQT09">https://us02web.zoom.us/j/85257106582?pwd=M3VVS0pXbnB5Wk1nT1ZZTys4UlVYQT09</a>\n<div><span style="color: rgb(35\, 35\, 51)\; font-family: Lato\, Helvetica\, Arial\; font-size: 14px\; background-color: rgb(255\, 255\, 255)\;">Webinar ID- 852 5710 6582<br />\nPassword-&nbsp\;</span><span style="font-weight: 600\; color: rgb(35\, 35\, 51)\; font-family: Lato\, Helvetica\, Arial\;">652422</span></div>\n
LOCATION:Zoom Webinar
UID:e.1561.36325
SEQUENCE:3
DTSTAMP:20260424T182006Z
URL:https://business.chandlerchamber.com/events/details/women-in-leadership-virtual-meeting-36325
END:VEVENT

END:VCALENDAR
