BEGIN:VCALENDAR
VERSION:2.0
PRODID:-//ChamberMaster//Event Calendar 2.0//EN
METHOD:PUBLISH
X-PUBLISHED-TTL:P3D
REFRESH-INTERVAL:P3D
CALSCALE:GREGORIAN
BEGIN:VEVENT
DTSTART:20190329T013000Z
DTEND:20190329T033000Z
X-MICROSOFT-CDO-ALLDAYEVENT:FALSE
SUMMARY:Women & Wealth: A Conversation & Dialogue dedicated to Empowering Women Physicians & medical professionals
DESCRIPTION:GWS understands the unique financial challenges and opportunities physicians face in their careers and in their homes. We are passionate about educating and helping physician families achieve their goals\, while avoiding common investment/planning mistakes. From tackling student loans debt and securing physician mortgages\, to financial & estate planning and asset management\, Amrish and his team use a physician's consultative method in their fiduciary role in creating unique and customized solutions for everyone they advise. Agenda Topics will include: ? Women In Business: Challenges & Rewards ? Wealth Management & Protection Needs ? Tax Code Changes (effective January 2018) Q&A Session will follow the presentation. This is a catered event and a confirmed RSVP is requested. You are welcome to bring your spouse/partner. Registration closes on March 13th
X-ALT-DESC;FMTTYPE=text/html:GWS understands the unique financial challenges and opportunities physicians face in their careers and in their homes. We are passionate about educating and helping physician families achieve their goals\, while avoiding common investment/planning mistakes. From tackling student loans debt and securing physician mortgages\, to financial &amp\; estate planning and asset management\, Amrish and his team use a physician&rsquo\;s consultative method in their fiduciary role in creating unique and customized solutions for everyone they advise. Agenda Topics will include: ? Women In Business: Challenges &amp\; Rewards ? Wealth Management &amp\; Protection Needs ? Tax Code Changes (effective January 2018) Q&amp\;A Session will follow the presentation. This is a catered event and a confirmed RSVP is requested. You are welcome to bring your spouse/partner. Registration closes on March 13th
LOCATION:Chandler Chamber of Commerce 25 S. Arizona Place\, Suite 201\, Chandler\, AZ 85255
UID:e.1561.36614
SEQUENCE:3
DTSTAMP:20260423T050036Z
URL:https://business.chandlerchamber.com/events/details/women-wealth-a-conversation-dialogue-dedicated-to-empowering-women-physicians-medical-professionals-36614
END:VEVENT

END:VCALENDAR
