BEGIN:VCALENDAR
VERSION:2.0
PRODID:-//ChamberMaster//Event Calendar 2.0//EN
METHOD:PUBLISH
X-PUBLISHED-TTL:P3D
REFRESH-INTERVAL:P3D
CALSCALE:GREGORIAN
BEGIN:VEVENT
DTSTART:20171217T220000Z
DTEND:20171218T010000Z
X-MICROSOFT-CDO-ALLDAYEVENT:FALSE
SUMMARY:Women\, Wealth and Wine
DESCRIPTION:The Women\, Wealth and Wine Swap is back and we are closing the year with an exclusive WHITE ELEPHANT event!. You're Invited!! If you are looking to network\, enjoy great food\, wine and wealth elevation then this event is definitely for you. Grab a few friends and come join us. Limited seating so don't miss out! Sunday\, December 17th at 3pm TICKETS AVAILABLE AT EVENTBRITE.COM The WHITE ELEPHANT Women\, Wealth and Wine Swap Day Party ..."making wealth and financial empowerment fun and sexy!!"
X-ALT-DESC;FMTTYPE=text/html:The Women\, Wealth and Wine Swap is back and we are closing the year with an exclusive WHITE ELEPHANT event!. You&#39\;re Invited!! If you are looking to network\, enjoy great food\, wine and wealth elevation then this event is definitely for you. Grab a few friends and come join us. Limited seating so don&#39\;t miss out! Sunday\, December 17th at 3pm TICKETS AVAILABLE AT EVENTBRITE.COM The WHITE ELEPHANT Women\, Wealth and Wine Swap Day Party ...&quot\;making wealth and financial empowerment fun and sexy!!&rdquo\;
LOCATION:Address provided upon RSVP Chandler\, AZ 85225
UID:e.1561.19641
SEQUENCE:3
DTSTAMP:20260424T022239Z
URL:https://business.chandlerchamber.com/events/details/women-wealth-and-wine-19641
END:VEVENT

END:VCALENDAR
