BEGIN:VCALENDAR
VERSION:2.0
PRODID:-//ChamberMaster//Event Calendar 2.0//EN
METHOD:PUBLISH
X-PUBLISHED-TTL:P3D
REFRESH-INTERVAL:P3D
CALSCALE:GREGORIAN
BEGIN:VEVENT
DTSTART:20180626T163000Z
DTEND:20180626T183000Z
X-MICROSOFT-CDO-ALLDAYEVENT:FALSE
SUMMARY:Women & Wealth Series
DESCRIPTION:Women & Wealth Series Preparing for Life Changing Events - Divorce\, Disability & Death
X-ALT-DESC;FMTTYPE=text/html:Women &amp\; Wealth Series Preparing for Life Changing Events - Divorce\, Disability &amp\; Death
LOCATION:TrustBank 4913 S Alma School Rd #5 Chandler\, AZ 85248
UID:e.1561.33678
SEQUENCE:3
DTSTAMP:20260423T163556Z
URL:https://business.chandlerchamber.com/events/details/women-wealth-series-06-26-2018-33678
END:VEVENT

END:VCALENDAR
