BEGIN:VCALENDAR
VERSION:2.0
PRODID:-//ChamberMaster//Event Calendar 2.0//EN
METHOD:PUBLISH
X-PUBLISHED-TTL:P3D
REFRESH-INTERVAL:P3D
CALSCALE:GREGORIAN
BEGIN:VEVENT
DTSTART:20180710T163000Z
DTEND:20180710T183000Z
X-MICROSOFT-CDO-ALLDAYEVENT:FALSE
SUMMARY:Women & Wealth Series
DESCRIPTION:Women & Wealth Series Taking Charge of your Money- Making Taxes Work For You
X-ALT-DESC;FMTTYPE=text/html:Women &amp\; Wealth Series Taking Charge of your Money- Making Taxes Work For You
LOCATION:TrustBank 4913 S Alma School Rd #5 Chandler\, AZ 85248
UID:e.1561.33679
SEQUENCE:3
DTSTAMP:20260423T151050Z
URL:https://business.chandlerchamber.com/events/details/women-wealth-series-07-10-2018-33679
END:VEVENT

END:VCALENDAR
