BEGIN:VCALENDAR
VERSION:2.0
PRODID:-//ChamberMaster//Event Calendar 2.0//EN
METHOD:PUBLISH
X-PUBLISHED-TTL:P3D
REFRESH-INTERVAL:P3D
CALSCALE:GREGORIAN
BEGIN:VEVENT
DTSTART:20180619T163000Z
DTEND:20180619T183000Z
X-MICROSOFT-CDO-ALLDAYEVENT:FALSE
SUMMARY:Women & Wealth Series
DESCRIPTION:Securing Your Financial Future-Why Women Make Great investors Lunch will be provided
X-ALT-DESC;FMTTYPE=text/html:Securing Your Financial Future-Why Women Make Great investors Lunch will be provided
LOCATION:TrustBank 4913 S Alma School Rd #5 Chandler\, AZ 85248
UID:e.1561.33677
SEQUENCE:3
DTSTAMP:20260423T163346Z
URL:https://business.chandlerchamber.com/events/details/women-wealth-series-33677
END:VEVENT

END:VCALENDAR
